BEGIN:VCALENDAR
VERSION:2.0
PRODID:-//ProEvent - ECPv6.15.17.1//NONSGML v1.0//EN
CALSCALE:GREGORIAN
METHOD:PUBLISH
X-ORIGINAL-URL:https://pk-proevent.de
X-WR-CALDESC:Veranstaltungen für ProEvent
REFRESH-INTERVAL;VALUE=DURATION:PT1H
X-Robots-Tag:noindex
X-PUBLISHED-TTL:PT1H
BEGIN:VTIMEZONE
TZID:Europe/Berlin
BEGIN:DAYLIGHT
TZOFFSETFROM:+0100
TZOFFSETTO:+0200
TZNAME:CEST
DTSTART:20240331T010000
END:DAYLIGHT
BEGIN:STANDARD
TZOFFSETFROM:+0200
TZOFFSETTO:+0100
TZNAME:CET
DTSTART:20241027T010000
END:STANDARD
BEGIN:DAYLIGHT
TZOFFSETFROM:+0100
TZOFFSETTO:+0200
TZNAME:CEST
DTSTART:20250330T010000
END:DAYLIGHT
BEGIN:STANDARD
TZOFFSETFROM:+0200
TZOFFSETTO:+0100
TZNAME:CET
DTSTART:20251026T010000
END:STANDARD
BEGIN:DAYLIGHT
TZOFFSETFROM:+0100
TZOFFSETTO:+0200
TZNAME:CEST
DTSTART:20260329T010000
END:DAYLIGHT
BEGIN:STANDARD
TZOFFSETFROM:+0200
TZOFFSETTO:+0100
TZNAME:CET
DTSTART:20261025T010000
END:STANDARD
END:VTIMEZONE
BEGIN:VEVENT
DTSTART;TZID=Europe/Berlin:20251116T180000
DTEND;TZID=Europe/Berlin:20251116T193000
DTSTAMP:20260420T123309
CREATED:20251017T092247Z
LAST-MODIFIED:20251017T092248Z
UID:10000386-1763316000-1763321400@pk-proevent.de
SUMMARY:Sonderkurs
DESCRIPTION:mit Patrick Klein
URL:https://pk-proevent.de/veranstaltungen/sonderkurs-2/
LOCATION:Protrain\, Poststraße 1\, Emmelshausen\, 56281
CATEGORIES:Kursplan
END:VEVENT
BEGIN:VEVENT
DTSTART;TZID=Europe/Berlin:20251112T055000
DTEND;TZID=Europe/Berlin:20251112T065000
DTSTAMP:20260420T123309
CREATED:20251012T085204Z
LAST-MODIFIED:20251012T085204Z
UID:10000301-1762926600-1762930200@pk-proevent.de
SUMMARY:Nüchterntraining
DESCRIPTION:mit Patrick Klein
URL:https://pk-proevent.de/veranstaltungen/nuechterntraining-64/
LOCATION:Protrain\, Poststraße 1\, Emmelshausen\, 56281
CATEGORIES:Kursplan
END:VEVENT
BEGIN:VEVENT
DTSTART;TZID=Europe/Berlin:20251111T181500
DTEND;TZID=Europe/Berlin:20251111T194500
DTSTAMP:20260420T123310
CREATED:20251012T091521Z
LAST-MODIFIED:20251012T091521Z
UID:10000349-1762884900-1762890300@pk-proevent.de
SUMMARY:VDM - Variable Dauermethode
DESCRIPTION:mit Patrick Klein
URL:https://pk-proevent.de/veranstaltungen/vdm-variable-dauermethode-4/
LOCATION:Protrain\, Poststraße 1\, Emmelshausen\, 56281
CATEGORIES:Kursplan
END:VEVENT
BEGIN:VEVENT
DTSTART;TZID=Europe/Berlin:20251110T170000
DTEND;TZID=Europe/Berlin:20251110T180000
DTSTAMP:20260420T123310
CREATED:20251012T090436Z
LAST-MODIFIED:20251012T090436Z
UID:10000311-1762794000-1762797600@pk-proevent.de
SUMMARY:Basic
DESCRIPTION:mit Diana Linke
URL:https://pk-proevent.de/veranstaltungen/basic-3/
LOCATION:Protrain\, Poststraße 1\, Emmelshausen\, 56281
CATEGORIES:Kursplan
END:VEVENT
BEGIN:VEVENT
DTSTART;TZID=Europe/Berlin:20251110T055000
DTEND;TZID=Europe/Berlin:20251110T065000
DTSTAMP:20260420T123310
CREATED:20251012T085018Z
LAST-MODIFIED:20251012T085018Z
UID:10000300-1762753800-1762757400@pk-proevent.de
SUMMARY:Nüchterntraining
DESCRIPTION:mit Patrick Klein
URL:https://pk-proevent.de/veranstaltungen/nuechterntraining-63/
LOCATION:Protrain\, Poststraße 1\, Emmelshausen\, 56281
CATEGORIES:Kursplan
END:VEVENT
BEGIN:VEVENT
DTSTART;TZID=Europe/Berlin:20251107T055000
DTEND;TZID=Europe/Berlin:20251107T065000
DTSTAMP:20260420T123310
CREATED:20251012T084911Z
LAST-MODIFIED:20251012T084911Z
UID:10000299-1762494600-1762498200@pk-proevent.de
SUMMARY:Nüchterntraining
DESCRIPTION:mit Lukas Linke
URL:https://pk-proevent.de/veranstaltungen/nuechterntraining-62/
LOCATION:Protrain\, Poststraße 1\, Emmelshausen\, 56281
CATEGORIES:Kursplan
END:VEVENT
BEGIN:VEVENT
DTSTART;TZID=Europe/Berlin:20251106T190000
DTEND;TZID=Europe/Berlin:20251106T200000
DTSTAMP:20260420T123310
CREATED:20251012T093019Z
LAST-MODIFIED:20251106T161346Z
UID:10000361-1762455600-1762459200@pk-proevent.de
SUMMARY:VDM - Variable Dauermethode
DESCRIPTION:mit Diana Rasbach-Linke
URL:https://pk-proevent.de/veranstaltungen/4104/
LOCATION:Protrain\, Poststraße 1\, Emmelshausen\, 56281
CATEGORIES:Kursplan
END:VEVENT
BEGIN:VEVENT
DTSTART;TZID=Europe/Berlin:20251106T180000
DTEND;TZID=Europe/Berlin:20251106T190000
DTSTAMP:20260420T123310
CREATED:20251012T092918Z
LAST-MODIFIED:20251106T161227Z
UID:10000360-1762452000-1762455600@pk-proevent.de
SUMMARY:VDM - Variable Dauermethode
DESCRIPTION:mit Diana Rasbach-Linke
URL:https://pk-proevent.de/veranstaltungen/ptp-vdm-variable-dauermethode/
LOCATION:Protrain\, Poststraße 1\, Emmelshausen\, 56281
CATEGORIES:Kursplan
END:VEVENT
BEGIN:VEVENT
DTSTART;TZID=Europe/Berlin:20251105T055000
DTEND;TZID=Europe/Berlin:20251105T065000
DTSTAMP:20260420T123310
CREATED:20251012T084742Z
LAST-MODIFIED:20251012T084742Z
UID:10000298-1762321800-1762325400@pk-proevent.de
SUMMARY:Nüchterntraining
DESCRIPTION:mit Patrick Klein
URL:https://pk-proevent.de/veranstaltungen/nuechterntraining-61/
LOCATION:Protrain\, Poststraße 1\, Emmelshausen\, 56281
CATEGORIES:Kursplan
END:VEVENT
BEGIN:VEVENT
DTSTART;TZID=Europe/Berlin:20251104T181500
DTEND;TZID=Europe/Berlin:20251104T194500
DTSTAMP:20260420T123310
CREATED:20251012T091409Z
LAST-MODIFIED:20251012T091409Z
UID:10000348-1762280100-1762285500@pk-proevent.de
SUMMARY:VDM - Variable Dauermethode
DESCRIPTION:mit Patrick Klein
URL:https://pk-proevent.de/veranstaltungen/vdm-variable-dauermethode-3/
LOCATION:Protrain\, Poststraße 1\, Emmelshausen\, 56281
CATEGORIES:Kursplan
END:VEVENT
BEGIN:VEVENT
DTSTART;TZID=Europe/Berlin:20251103T170000
DTEND;TZID=Europe/Berlin:20251103T180000
DTSTAMP:20260420T123310
CREATED:20251012T090348Z
LAST-MODIFIED:20251012T090348Z
UID:10000310-1762189200-1762192800@pk-proevent.de
SUMMARY:Basic
DESCRIPTION:mit Diana Linke
URL:https://pk-proevent.de/veranstaltungen/basic-2/
LOCATION:Protrain\, Poststraße 1\, Emmelshausen\, 56281
CATEGORIES:Kursplan
END:VEVENT
BEGIN:VEVENT
DTSTART;TZID=Europe/Berlin:20251103T055000
DTEND;TZID=Europe/Berlin:20251103T065000
DTSTAMP:20260420T123310
CREATED:20251012T084632Z
LAST-MODIFIED:20251012T084632Z
UID:10000297-1762149000-1762152600@pk-proevent.de
SUMMARY:Nüchterntraining
DESCRIPTION:mit Patrick Klein
URL:https://pk-proevent.de/veranstaltungen/nuechterntraining-60/
LOCATION:Protrain\, Poststraße 1\, Emmelshausen\, 56281
CATEGORIES:Kursplan
END:VEVENT
BEGIN:VEVENT
DTSTART;TZID=Europe/Berlin:20251031T055000
DTEND;TZID=Europe/Berlin:20251031T065000
DTSTAMP:20260420T123310
CREATED:20251012T084405Z
LAST-MODIFIED:20251012T084405Z
UID:10000296-1761889800-1761893400@pk-proevent.de
SUMMARY:Nüchterntraining
DESCRIPTION:mit Patrick Klein
URL:https://pk-proevent.de/veranstaltungen/nuechterntraining-59/
LOCATION:Protrain\, Poststraße 1\, Emmelshausen\, 56281
CATEGORIES:Kursplan
END:VEVENT
BEGIN:VEVENT
DTSTART;TZID=Europe/Berlin:20251030T190000
DTEND;TZID=Europe/Berlin:20251030T200000
DTSTAMP:20260420T123310
CREATED:20251012T092746Z
LAST-MODIFIED:20251012T092746Z
UID:10000359-1761850800-1761854400@pk-proevent.de
SUMMARY:PTP / EDM - Extensive Dauermethode
DESCRIPTION:mit Patrick Klein
URL:https://pk-proevent.de/veranstaltungen/ptp-edm-extensive-dauermethode-2/
LOCATION:Protrain\, Poststraße 1\, Emmelshausen\, 56281
CATEGORIES:Kursplan
END:VEVENT
BEGIN:VEVENT
DTSTART;TZID=Europe/Berlin:20251030T180000
DTEND;TZID=Europe/Berlin:20251030T190000
DTSTAMP:20260420T123310
CREATED:20251012T092653Z
LAST-MODIFIED:20251012T092653Z
UID:10000358-1761847200-1761850800@pk-proevent.de
SUMMARY:PTP / EDM - Extensive Dauermethode
DESCRIPTION:mit Patrick Klein
URL:https://pk-proevent.de/veranstaltungen/ptp-edm-extensive-dauermethode/
LOCATION:Protrain\, Poststraße 1\, Emmelshausen\, 56281
CATEGORIES:Kursplan
END:VEVENT
BEGIN:VEVENT
DTSTART;TZID=Europe/Berlin:20251029T055000
DTEND;TZID=Europe/Berlin:20251029T065000
DTSTAMP:20260420T123310
CREATED:20251012T084251Z
LAST-MODIFIED:20251017T092914Z
UID:10000295-1761717000-1761720600@pk-proevent.de
SUMMARY:Nüchterntraining
DESCRIPTION:mit Lukas Linke
URL:https://pk-proevent.de/veranstaltungen/nuechterntraining-58/
LOCATION:Protrain\, Poststraße 1\, Emmelshausen\, 56281
CATEGORIES:Kursplan
END:VEVENT
BEGIN:VEVENT
DTSTART;TZID=Europe/Berlin:20251028T181500
DTEND;TZID=Europe/Berlin:20251028T194500
DTSTAMP:20260420T123310
CREATED:20251012T091320Z
LAST-MODIFIED:20251017T092938Z
UID:10000347-1761675300-1761680700@pk-proevent.de
SUMMARY:VDM - Variable Dauermethode
DESCRIPTION:mit Leon Linke
URL:https://pk-proevent.de/veranstaltungen/vdm-variable-dauermethode-2/
LOCATION:Protrain\, Poststraße 1\, Emmelshausen\, 56281
CATEGORIES:Kursplan
END:VEVENT
BEGIN:VEVENT
DTSTART;TZID=Europe/Berlin:20251027T170000
DTEND;TZID=Europe/Berlin:20251027T180000
DTSTAMP:20260420T123310
CREATED:20251012T090253Z
LAST-MODIFIED:20251012T090253Z
UID:10000309-1761584400-1761588000@pk-proevent.de
SUMMARY:Basic
DESCRIPTION:mit Diana Linke
URL:https://pk-proevent.de/veranstaltungen/basic/
LOCATION:Protrain\, Poststraße 1\, Emmelshausen\, 56281
CATEGORIES:Kursplan
END:VEVENT
BEGIN:VEVENT
DTSTART;TZID=Europe/Berlin:20251027T055000
DTEND;TZID=Europe/Berlin:20251027T065000
DTSTAMP:20260420T123310
CREATED:20251012T084120Z
LAST-MODIFIED:20251017T092834Z
UID:10000294-1761544200-1761547800@pk-proevent.de
SUMMARY:Nüchterntraining
DESCRIPTION:mit Lukas Linke
URL:https://pk-proevent.de/veranstaltungen/nuechterntraining-57/
LOCATION:Protrain\, Poststraße 1\, Emmelshausen\, 56281
CATEGORIES:Kursplan
END:VEVENT
BEGIN:VEVENT
DTSTART;TZID=Europe/Berlin:20251024T055000
DTEND;TZID=Europe/Berlin:20251024T065000
DTSTAMP:20260420T123310
CREATED:20251012T084000Z
LAST-MODIFIED:20251012T084000Z
UID:10000293-1761285000-1761288600@pk-proevent.de
SUMMARY:Nüchterntraining
DESCRIPTION:mit Lukas Linke
URL:https://pk-proevent.de/veranstaltungen/nuechterntraining-56/
LOCATION:Protrain\, Poststraße 1\, Emmelshausen\, 56281
CATEGORIES:Kursplan
END:VEVENT
BEGIN:VEVENT
DTSTART;TZID=Europe/Berlin:20251023T190000
DTEND;TZID=Europe/Berlin:20251023T200000
DTSTAMP:20260420T123310
CREATED:20251012T092355Z
LAST-MODIFIED:20251012T092355Z
UID:10000357-1761246000-1761249600@pk-proevent.de
SUMMARY:EDM - Extensive Dauermethode
DESCRIPTION:mit Leon Linke
URL:https://pk-proevent.de/veranstaltungen/edm-extensive-dauermethode-2/
LOCATION:Protrain\, Poststraße 1\, Emmelshausen\, 56281
CATEGORIES:Kursplan
END:VEVENT
BEGIN:VEVENT
DTSTART;TZID=Europe/Berlin:20251023T180000
DTEND;TZID=Europe/Berlin:20251023T190000
DTSTAMP:20260420T123310
CREATED:20251012T092254Z
LAST-MODIFIED:20251012T092254Z
UID:10000356-1761242400-1761246000@pk-proevent.de
SUMMARY:EDM - Extensive Dauermethode
DESCRIPTION:mit Leon Linke
URL:https://pk-proevent.de/veranstaltungen/edm-extensive-dauermethode/
LOCATION:Protrain\, Poststraße 1\, Emmelshausen\, 56281
CATEGORIES:Kursplan
END:VEVENT
BEGIN:VEVENT
DTSTART;TZID=Europe/Berlin:20251022T055000
DTEND;TZID=Europe/Berlin:20251022T065000
DTSTAMP:20260420T123310
CREATED:20251012T083843Z
LAST-MODIFIED:20251012T083843Z
UID:10000292-1761112200-1761115800@pk-proevent.de
SUMMARY:Nüchterntraining
DESCRIPTION:mit Lukas Linke
URL:https://pk-proevent.de/veranstaltungen/nuechterntraining-55/
LOCATION:Protrain\, Poststraße 1\, Emmelshausen\, 56281
CATEGORIES:Kursplan
END:VEVENT
BEGIN:VEVENT
DTSTART;TZID=Europe/Berlin:20251021T181500
DTEND;TZID=Europe/Berlin:20251021T194500
DTSTAMP:20260420T123310
CREATED:20251012T091224Z
LAST-MODIFIED:20251012T091224Z
UID:10000346-1761070500-1761075900@pk-proevent.de
SUMMARY:VDM - Variable Dauermethode
DESCRIPTION:mit Lukas Linke
URL:https://pk-proevent.de/veranstaltungen/vdm-variable-dauermethode/
LOCATION:Protrain\, Poststraße 1\, Emmelshausen\, 56281
CATEGORIES:Kursplan
END:VEVENT
BEGIN:VEVENT
DTSTART;TZID=Europe/Berlin:20251020T170000
DTEND;TZID=Europe/Berlin:20251020T180000
DTSTAMP:20260420T123310
CREATED:20251017T112819Z
LAST-MODIFIED:20251017T112819Z
UID:10000388-1760979600-1760983200@pk-proevent.de
SUMMARY:Basic
DESCRIPTION:mit Diana Linke
URL:https://pk-proevent.de/veranstaltungen/basic-10/
LOCATION:Protrain\, Poststraße 1\, Emmelshausen\, 56281
CATEGORIES:Kursplan
END:VEVENT
BEGIN:VEVENT
DTSTART;TZID=Europe/Berlin:20251020T055000
DTEND;TZID=Europe/Berlin:20251020T065000
DTSTAMP:20260420T123310
CREATED:20251012T083713Z
LAST-MODIFIED:20251017T092751Z
UID:10000291-1760939400-1760943000@pk-proevent.de
SUMMARY:Nüchterntraining
DESCRIPTION:mit Patrick Klein
URL:https://pk-proevent.de/veranstaltungen/nuechterntraining-54/
LOCATION:Protrain\, Poststraße 1\, Emmelshausen\, 56281
CATEGORIES:Kursplan
END:VEVENT
BEGIN:VEVENT
DTSTART;TZID=Europe/Berlin:20251019T180000
DTEND;TZID=Europe/Berlin:20251019T193000
DTSTAMP:20260420T123310
CREATED:20251017T092203Z
LAST-MODIFIED:20251017T092203Z
UID:10000385-1760896800-1760902200@pk-proevent.de
SUMMARY:Sonderkurs
DESCRIPTION:mit Patrick Klein
URL:https://pk-proevent.de/veranstaltungen/sonderkurs/
LOCATION:Protrain\, Poststraße 1\, Emmelshausen\, 56281
CATEGORIES:Kursplan
END:VEVENT
BEGIN:VEVENT
DTSTART;TZID=Europe/Berlin:20250911T190000
DTEND;TZID=Europe/Berlin:20250911T200000
DTSTAMP:20260420T123310
CREATED:20250909T074614Z
LAST-MODIFIED:20250909T074614Z
UID:10000290-1757617200-1757620800@pk-proevent.de
SUMMARY:The Speed– volle Power\, maximale Geschwindigkeit!
DESCRIPTION:mit Patrick
URL:https://pk-proevent.de/veranstaltungen/the-speed-volle-power-maximale-geschwindigkeit/
LOCATION:Protrain\, Poststraße 1\, Emmelshausen\, 56281
CATEGORIES:Kursplan
END:VEVENT
BEGIN:VEVENT
DTSTART;TZID=Europe/Berlin:20250911T180000
DTEND;TZID=Europe/Berlin:20250911T190000
DTSTAMP:20260420T123310
CREATED:20250909T074429Z
LAST-MODIFIED:20250909T074429Z
UID:10000289-1757613600-1757617200@pk-proevent.de
SUMMARY:Running up the hill – wir erklimmen jeden Anstieg!
DESCRIPTION:mit Patrick
URL:https://pk-proevent.de/veranstaltungen/running-up-the-hill-wir-erklimmen-jeden-anstieg/
LOCATION:Protrain\, Poststraße 1\, Emmelshausen\, 56281
CATEGORIES:Kursplan
END:VEVENT
BEGIN:VEVENT
DTSTART;TZID=Europe/Berlin:20250909T181500
DTEND;TZID=Europe/Berlin:20250909T194500
DTSTAMP:20260420T123310
CREATED:20250909T074136Z
LAST-MODIFIED:20250909T074136Z
UID:10000288-1757441700-1757447100@pk-proevent.de
SUMMARY:Intervalltraining – knackig\, intensiv\, effektiv!
DESCRIPTION:mit Dominik
URL:https://pk-proevent.de/veranstaltungen/intervalltraining-knackig-intensiv-effektiv/
LOCATION:Protrain\, Poststraße 1\, Emmelshausen\, 56281
CATEGORIES:Kursplan
END:VEVENT
END:VCALENDAR