BEGIN:VCALENDAR
VERSION:2.0
PRODID:-//ProEvent - ECPv6.15.17.1//NONSGML v1.0//EN
CALSCALE:GREGORIAN
METHOD:PUBLISH
X-ORIGINAL-URL:https://pk-proevent.de
X-WR-CALDESC:Veranstaltungen für ProEvent
REFRESH-INTERVAL;VALUE=DURATION:PT1H
X-Robots-Tag:noindex
X-PUBLISHED-TTL:PT1H
BEGIN:VTIMEZONE
TZID:Europe/Berlin
BEGIN:DAYLIGHT
TZOFFSETFROM:+0100
TZOFFSETTO:+0200
TZNAME:CEST
DTSTART:20240331T010000
END:DAYLIGHT
BEGIN:STANDARD
TZOFFSETFROM:+0200
TZOFFSETTO:+0100
TZNAME:CET
DTSTART:20241027T010000
END:STANDARD
BEGIN:DAYLIGHT
TZOFFSETFROM:+0100
TZOFFSETTO:+0200
TZNAME:CEST
DTSTART:20250330T010000
END:DAYLIGHT
BEGIN:STANDARD
TZOFFSETFROM:+0200
TZOFFSETTO:+0100
TZNAME:CET
DTSTART:20251026T010000
END:STANDARD
BEGIN:DAYLIGHT
TZOFFSETFROM:+0100
TZOFFSETTO:+0200
TZNAME:CEST
DTSTART:20260329T010000
END:DAYLIGHT
BEGIN:STANDARD
TZOFFSETFROM:+0200
TZOFFSETTO:+0100
TZNAME:CET
DTSTART:20261025T010000
END:STANDARD
END:VTIMEZONE
BEGIN:VEVENT
DTSTART;TZID=Europe/Berlin:20250821T190000
DTEND;TZID=Europe/Berlin:20250821T200000
DTSTAMP:20260420T172030
CREATED:20250818T184300Z
LAST-MODIFIED:20250818T184300Z
UID:10000279-1755802800-1755806400@pk-proevent.de
SUMMARY:Fartlek
DESCRIPTION:mit Patrick
URL:https://pk-proevent.de/veranstaltungen/fartlek-30/
LOCATION:Protrain\, Poststraße 1\, Emmelshausen\, 56281
CATEGORIES:Kursplan
END:VEVENT
BEGIN:VEVENT
DTSTART;TZID=Europe/Berlin:20250821T180000
DTEND;TZID=Europe/Berlin:20250821T190000
DTSTAMP:20260420T172030
CREATED:20250818T184123Z
LAST-MODIFIED:20250818T184123Z
UID:10000278-1755799200-1755802800@pk-proevent.de
SUMMARY:Fartlek
DESCRIPTION:mit Patrick
URL:https://pk-proevent.de/veranstaltungen/fartlek-29/
LOCATION:Protrain\, Poststraße 1\, Emmelshausen\, 56281
CATEGORIES:Kursplan
END:VEVENT
BEGIN:VEVENT
DTSTART;TZID=Europe/Berlin:20250807T190000
DTEND;TZID=Europe/Berlin:20250807T200000
DTSTAMP:20260420T172030
CREATED:20250729T133455Z
LAST-MODIFIED:20250729T133455Z
UID:10000277-1754593200-1754596800@pk-proevent.de
SUMMARY:Fartlek
DESCRIPTION:mit Patrick
URL:https://pk-proevent.de/veranstaltungen/fartlek-28/
LOCATION:Protrain\, Poststraße 1\, Emmelshausen\, 56281
CATEGORIES:Kursplan
END:VEVENT
BEGIN:VEVENT
DTSTART;TZID=Europe/Berlin:20250807T180000
DTEND;TZID=Europe/Berlin:20250807T190000
DTSTAMP:20260420T172030
CREATED:20250729T133347Z
LAST-MODIFIED:20250729T133347Z
UID:10000276-1754589600-1754593200@pk-proevent.de
SUMMARY:Fatburner
DESCRIPTION:mit Patrick
URL:https://pk-proevent.de/veranstaltungen/fatburner-4/
LOCATION:Protrain\, Poststraße 1\, Emmelshausen\, 56281
CATEGORIES:Kursplan
END:VEVENT
BEGIN:VEVENT
DTSTART;TZID=Europe/Berlin:20250806T055000
DTEND;TZID=Europe/Berlin:20250806T065000
DTSTAMP:20260420T172030
CREATED:20250729T133240Z
LAST-MODIFIED:20250729T133240Z
UID:10000275-1754459400-1754463000@pk-proevent.de
SUMMARY:Nüchterntraining
DESCRIPTION:mit Patrick
URL:https://pk-proevent.de/veranstaltungen/nuechterntraining-53/
LOCATION:Protrain\, Poststraße 1\, Emmelshausen\, 56281
CATEGORIES:Kursplan
END:VEVENT
BEGIN:VEVENT
DTSTART;TZID=Europe/Berlin:20250805T181500
DTEND;TZID=Europe/Berlin:20250805T194500
DTSTAMP:20260420T172030
CREATED:20250729T132628Z
LAST-MODIFIED:20250729T132628Z
UID:10000274-1754417700-1754423100@pk-proevent.de
SUMMARY:On the Limit
DESCRIPTION:mit Patrick
URL:https://pk-proevent.de/veranstaltungen/on-the-limit/
LOCATION:Protrain\, Poststraße 1\, Emmelshausen\, 56281
CATEGORIES:Kursplan
END:VEVENT
BEGIN:VEVENT
DTSTART;TZID=Europe/Berlin:20250804T055000
DTEND;TZID=Europe/Berlin:20250804T065000
DTSTAMP:20260420T172030
CREATED:20250729T132452Z
LAST-MODIFIED:20250729T132452Z
UID:10000273-1754286600-1754290200@pk-proevent.de
SUMMARY:Nüchterntraining
DESCRIPTION:mit Patrick
URL:https://pk-proevent.de/veranstaltungen/nuechterntraining-52/
LOCATION:Protrain\, Poststraße 1\, Emmelshausen\, 56281
CATEGORIES:Kursplan
END:VEVENT
BEGIN:VEVENT
DTSTART;TZID=Europe/Berlin:20250724T190000
DTEND;TZID=Europe/Berlin:20250724T200000
DTSTAMP:20260420T172030
CREATED:20250718T091721Z
LAST-MODIFIED:20250718T091721Z
UID:10000272-1753383600-1753387200@pk-proevent.de
SUMMARY:Feierabendsrunde
DESCRIPTION:mit Leon
URL:https://pk-proevent.de/veranstaltungen/feierabendsrunde/
LOCATION:Protrain\, Poststraße 1\, Emmelshausen\, 56281
CATEGORIES:Kursplan
END:VEVENT
BEGIN:VEVENT
DTSTART;TZID=Europe/Berlin:20250724T180000
DTEND;TZID=Europe/Berlin:20250724T190000
DTSTAMP:20260420T172030
CREATED:20250718T091610Z
LAST-MODIFIED:20250718T091610Z
UID:10000271-1753380000-1753383600@pk-proevent.de
SUMMARY:Fartlek
DESCRIPTION:mit Leon
URL:https://pk-proevent.de/veranstaltungen/fartlek-27/
LOCATION:Protrain\, Poststraße 1\, Emmelshausen\, 56281
CATEGORIES:Kursplan
END:VEVENT
BEGIN:VEVENT
DTSTART;TZID=Europe/Berlin:20250722T181500
DTEND;TZID=Europe/Berlin:20250722T194500
DTSTAMP:20260420T172030
CREATED:20250718T091441Z
LAST-MODIFIED:20250718T091441Z
UID:10000270-1753208100-1753213500@pk-proevent.de
SUMMARY:konstante Dauermethode
DESCRIPTION:mit Leon
URL:https://pk-proevent.de/veranstaltungen/konstante-dauermethode-3/
LOCATION:Protrain\, Poststraße 1\, Emmelshausen\, 56281
CATEGORIES:Kursplan
END:VEVENT
BEGIN:VEVENT
DTSTART;TZID=Europe/Berlin:20250721T203000
DTEND;TZID=Europe/Berlin:20250721T220000
DTSTAMP:20260420T172030
CREATED:20250718T091326Z
LAST-MODIFIED:20250718T091326Z
UID:10000269-1753129800-1753135200@pk-proevent.de
SUMMARY:Bergeinzelzeitfahren
DESCRIPTION:mit Patrick
URL:https://pk-proevent.de/veranstaltungen/bergeinzelzeitfahren/
LOCATION:Protrain\, Poststraße 1\, Emmelshausen\, 56281
CATEGORIES:Kursplan
END:VEVENT
BEGIN:VEVENT
DTSTART;TZID=Europe/Berlin:20250721T055000
DTEND;TZID=Europe/Berlin:20250721T065000
DTSTAMP:20260420T172030
CREATED:20250718T091042Z
LAST-MODIFIED:20250718T091049Z
UID:10000268-1753077000-1753080600@pk-proevent.de
SUMMARY:Nüchterntraining
DESCRIPTION:mit Patrick
URL:https://pk-proevent.de/veranstaltungen/nuechterntraining-51/
LOCATION:Protrain\, Poststraße 1\, Emmelshausen\, 56281
CATEGORIES:Kursplan
END:VEVENT
BEGIN:VEVENT
DTSTART;TZID=Europe/Berlin:20250716T055000
DTEND;TZID=Europe/Berlin:20250716T065000
DTSTAMP:20260420T172030
CREATED:20250714T173009Z
LAST-MODIFIED:20250714T173009Z
UID:10000267-1752645000-1752648600@pk-proevent.de
SUMMARY:Nüchterntraining
DESCRIPTION:mit Dominik
URL:https://pk-proevent.de/veranstaltungen/nuechterntraining-50/
LOCATION:Protrain\, Poststraße 1\, Emmelshausen\, 56281
CATEGORIES:Kursplan
END:VEVENT
BEGIN:VEVENT
DTSTART;TZID=Europe/Berlin:20250715T181500
DTEND;TZID=Europe/Berlin:20250715T194500
DTSTAMP:20260420T172030
CREATED:20250714T172842Z
LAST-MODIFIED:20250714T172842Z
UID:10000266-1752603300-1752608700@pk-proevent.de
SUMMARY:Fartlek
DESCRIPTION:mit Patrick
URL:https://pk-proevent.de/veranstaltungen/fartlek-26/
LOCATION:Protrain\, Poststraße 1\, Emmelshausen\, 56281
CATEGORIES:Kursplan
END:VEVENT
BEGIN:VEVENT
DTSTART;TZID=Europe/Berlin:20250712T063000
DTEND;TZID=Europe/Berlin:20250712T073000
DTSTAMP:20260420T172030
CREATED:20250709T082603Z
LAST-MODIFIED:20250709T082603Z
UID:10000265-1752301800-1752305400@pk-proevent.de
SUMMARY:Nüchterntraining
DESCRIPTION:
URL:https://pk-proevent.de/veranstaltungen/nuechterntraining-49/
LOCATION:Protrain\, Poststraße 1\, Emmelshausen\, 56281
CATEGORIES:Kursplan
END:VEVENT
BEGIN:VEVENT
DTSTART;TZID=Europe/Berlin:20250711T180000
DTEND;TZID=Europe/Berlin:20250711T190000
DTSTAMP:20260420T172030
CREATED:20250709T082454Z
LAST-MODIFIED:20250709T082454Z
UID:10000264-1752256800-1752260400@pk-proevent.de
SUMMARY:Tabata
DESCRIPTION:
URL:https://pk-proevent.de/veranstaltungen/tabata-2/
LOCATION:Protrain\, Poststraße 1\, Emmelshausen\, 56281
CATEGORIES:Kursplan
END:VEVENT
BEGIN:VEVENT
DTSTART;TZID=Europe/Berlin:20250711T055000
DTEND;TZID=Europe/Berlin:20250711T065000
DTSTAMP:20260420T172030
CREATED:20250705T115509Z
LAST-MODIFIED:20250705T115509Z
UID:10000263-1752213000-1752216600@pk-proevent.de
SUMMARY:Nüchterneinheit
DESCRIPTION:mit Patrick
URL:https://pk-proevent.de/veranstaltungen/nuechterneinheit/
LOCATION:Protrain\, Poststraße 1\, Emmelshausen\, 56281
CATEGORIES:Kursplan
END:VEVENT
BEGIN:VEVENT
DTSTART;TZID=Europe/Berlin:20250708T181500
DTEND;TZID=Europe/Berlin:20250708T194500
DTSTAMP:20260420T172030
CREATED:20250705T115026Z
LAST-MODIFIED:20250705T115026Z
UID:10000260-1751998500-1752003900@pk-proevent.de
SUMMARY:ProMotion Fartlek
DESCRIPTION:mit Patrick
URL:https://pk-proevent.de/veranstaltungen/promotion-fartlek/
LOCATION:Protrain\, Poststraße 1\, Emmelshausen\, 56281
CATEGORIES:Kursplan
END:VEVENT
BEGIN:VEVENT
DTSTART;TZID=Europe/Berlin:20250703T190000
DTEND;TZID=Europe/Berlin:20250703T200000
DTSTAMP:20260420T172030
CREATED:20250701T090747Z
LAST-MODIFIED:20250701T090747Z
UID:10000259-1751569200-1751572800@pk-proevent.de
SUMMARY:Fartlek
DESCRIPTION:mit Dominik
URL:https://pk-proevent.de/veranstaltungen/fartlek-25/
LOCATION:Protrain\, Poststraße 1\, Emmelshausen\, 56281
CATEGORIES:Kursplan
END:VEVENT
BEGIN:VEVENT
DTSTART;TZID=Europe/Berlin:20250703T180000
DTEND;TZID=Europe/Berlin:20250703T190000
DTSTAMP:20260420T172030
CREATED:20250701T090639Z
LAST-MODIFIED:20250701T090639Z
UID:10000258-1751565600-1751569200@pk-proevent.de
SUMMARY:Fartlek
DESCRIPTION:mit Dominik
URL:https://pk-proevent.de/veranstaltungen/fartlek-24/
LOCATION:Protrain\, Poststraße 1\, Emmelshausen\, 56281
CATEGORIES:Kursplan
END:VEVENT
BEGIN:VEVENT
DTSTART;TZID=Europe/Berlin:20250701T181500
DTEND;TZID=Europe/Berlin:20250701T194500
DTSTAMP:20260420T172030
CREATED:20250630T110553Z
LAST-MODIFIED:20250630T110553Z
UID:10000257-1751393700-1751399100@pk-proevent.de
SUMMARY:Intervall am Berg
DESCRIPTION:Mit Patrick
URL:https://pk-proevent.de/veranstaltungen/intervall-am-berg-4/
LOCATION:Protrain\, Poststraße 1\, Emmelshausen\, 56281
CATEGORIES:Kursplan
END:VEVENT
BEGIN:VEVENT
DTSTART;TZID=Europe/Berlin:20250529T080000
DTEND;TZID=Europe/Berlin:20250529T090000
DTSTAMP:20260420T172030
CREATED:20250518T103955Z
LAST-MODIFIED:20250518T103955Z
UID:10000255-1748505600-1748509200@pk-proevent.de
SUMMARY:10-Tages-Challenge
DESCRIPTION:mit Patrick
URL:https://pk-proevent.de/veranstaltungen/10-tages-challenge-8/
LOCATION:Protrain\, Poststraße 1\, Emmelshausen\, 56281
CATEGORIES:Kursplan
END:VEVENT
BEGIN:VEVENT
DTSTART;TZID=Europe/Berlin:20250529T070000
DTEND;TZID=Europe/Berlin:20250529T080000
DTSTAMP:20260420T172031
CREATED:20250518T103904Z
LAST-MODIFIED:20250518T103904Z
UID:10000254-1748502000-1748505600@pk-proevent.de
SUMMARY:10-Tages-Challenge
DESCRIPTION:mit Patrick
URL:https://pk-proevent.de/veranstaltungen/10-tages-challenge-7/
LOCATION:Protrain\, Poststraße 1\, Emmelshausen\, 56281
CATEGORIES:Kursplan
END:VEVENT
BEGIN:VEVENT
DTSTART;TZID=Europe/Berlin:20250528T055000
DTEND;TZID=Europe/Berlin:20250528T065000
DTSTAMP:20260420T172031
CREATED:20250518T100237Z
LAST-MODIFIED:20250518T100237Z
UID:10000253-1748411400-1748415000@pk-proevent.de
SUMMARY:Nüchterntraining
DESCRIPTION:mit Patrick
URL:https://pk-proevent.de/veranstaltungen/nuechterntraining-47/
LOCATION:Protrain\, Poststraße 1\, Emmelshausen\, 56281
CATEGORIES:Kursplan
END:VEVENT
BEGIN:VEVENT
DTSTART;TZID=Europe/Berlin:20250527T181500
DTEND;TZID=Europe/Berlin:20250527T194500
DTSTAMP:20260420T172031
CREATED:20250518T095612Z
LAST-MODIFIED:20250518T095612Z
UID:10000249-1748369700-1748375100@pk-proevent.de
SUMMARY:10-Tages-Challenge
DESCRIPTION:mit Patrick
URL:https://pk-proevent.de/veranstaltungen/10-tages-challenge-4/
LOCATION:Protrain\, Poststraße 1\, Emmelshausen\, 56281
CATEGORIES:Kursplan
END:VEVENT
BEGIN:VEVENT
DTSTART;TZID=Europe/Berlin:20250527T055000
DTEND;TZID=Europe/Berlin:20250527T065000
DTSTAMP:20260420T172031
CREATED:20250525T112808Z
LAST-MODIFIED:20250525T112808Z
UID:10000256-1748325000-1748328600@pk-proevent.de
SUMMARY:Nüchterntraining
DESCRIPTION:mit Patrick
URL:https://pk-proevent.de/veranstaltungen/nuechterntraining-48/
LOCATION:Protrain\, Poststraße 1\, Emmelshausen\, 56281
CATEGORIES:Kursplan
END:VEVENT
BEGIN:VEVENT
DTSTART;TZID=Europe/Berlin:20250526T055000
DTEND;TZID=Europe/Berlin:20250526T065000
DTSTAMP:20260420T172031
CREATED:20250518T100105Z
LAST-MODIFIED:20250518T100105Z
UID:10000252-1748238600-1748242200@pk-proevent.de
SUMMARY:Nüchterntraining
DESCRIPTION:mit Patrick
URL:https://pk-proevent.de/veranstaltungen/nuechterntraining-46/
LOCATION:Protrain\, Poststraße 1\, Emmelshausen\, 56281
CATEGORIES:Kursplan
END:VEVENT
BEGIN:VEVENT
DTSTART;TZID=Europe/Berlin:20250524T055000
DTEND;TZID=Europe/Berlin:20250524T065000
DTSTAMP:20260420T172031
CREATED:20250515T135011Z
LAST-MODIFIED:20250515T135011Z
UID:10000245-1748065800-1748069400@pk-proevent.de
SUMMARY:Nüchterntraining
DESCRIPTION:
URL:https://pk-proevent.de/veranstaltungen/nuechterntraining-45/
LOCATION:Protrain\, Poststraße 1\, Emmelshausen\, 56281
CATEGORIES:Kursplan
END:VEVENT
BEGIN:VEVENT
DTSTART;TZID=Europe/Berlin:20250523T055000
DTEND;TZID=Europe/Berlin:20250523T065000
DTSTAMP:20260420T172031
CREATED:20250515T134831Z
LAST-MODIFIED:20250518T120734Z
UID:10000244-1747979400-1747983000@pk-proevent.de
SUMMARY:Nüchterntraining
DESCRIPTION:
URL:https://pk-proevent.de/veranstaltungen/nuechterntraining-44/
LOCATION:Protrain\, Poststraße 1\, Emmelshausen\, 56281
CATEGORIES:Kursplan
END:VEVENT
BEGIN:VEVENT
DTSTART;TZID=Europe/Berlin:20250522T190000
DTEND;TZID=Europe/Berlin:20250522T200000
DTSTAMP:20260420T172031
CREATED:20250518T095416Z
LAST-MODIFIED:20250518T120704Z
UID:10000248-1747940400-1747944000@pk-proevent.de
SUMMARY:10-Tages-Challenge
DESCRIPTION:
URL:https://pk-proevent.de/veranstaltungen/10-tages-challenge-3/
LOCATION:Protrain\, Poststraße 1\, Emmelshausen\, 56281
CATEGORIES:Kursplan
END:VEVENT
END:VCALENDAR