BEGIN:VCALENDAR
VERSION:2.0
PRODID:-//ProEvent - ECPv6.15.17.1//NONSGML v1.0//EN
CALSCALE:GREGORIAN
METHOD:PUBLISH
X-WR-CALNAME:ProEvent
X-ORIGINAL-URL:https://pk-proevent.de
X-WR-CALDESC:Veranstaltungen für ProEvent
REFRESH-INTERVAL;VALUE=DURATION:PT1H
X-Robots-Tag:noindex
X-PUBLISHED-TTL:PT1H
BEGIN:VTIMEZONE
TZID:Europe/Berlin
BEGIN:DAYLIGHT
TZOFFSETFROM:+0100
TZOFFSETTO:+0200
TZNAME:CEST
DTSTART:20240331T010000
END:DAYLIGHT
BEGIN:STANDARD
TZOFFSETFROM:+0200
TZOFFSETTO:+0100
TZNAME:CET
DTSTART:20241027T010000
END:STANDARD
BEGIN:DAYLIGHT
TZOFFSETFROM:+0100
TZOFFSETTO:+0200
TZNAME:CEST
DTSTART:20250330T010000
END:DAYLIGHT
BEGIN:STANDARD
TZOFFSETFROM:+0200
TZOFFSETTO:+0100
TZNAME:CET
DTSTART:20251026T010000
END:STANDARD
BEGIN:DAYLIGHT
TZOFFSETFROM:+0100
TZOFFSETTO:+0200
TZNAME:CEST
DTSTART:20260329T010000
END:DAYLIGHT
BEGIN:STANDARD
TZOFFSETFROM:+0200
TZOFFSETTO:+0100
TZNAME:CET
DTSTART:20261025T010000
END:STANDARD
END:VTIMEZONE
BEGIN:VEVENT
DTSTART;TZID=Europe/Berlin:20251230T181500
DTEND;TZID=Europe/Berlin:20251230T194500
DTSTAMP:20260420T073433
CREATED:20251228T092230Z
LAST-MODIFIED:20251228T092230Z
UID:10000406-1767118500-1767123900@pk-proevent.de
SUMMARY:Intervalltraining
DESCRIPTION:
URL:https://pk-proevent.de/veranstaltungen/intervalltraining-5/
LOCATION:Protrain\, Poststraße 1\, Emmelshausen\, 56281
CATEGORIES:Kursplan
END:VEVENT
BEGIN:VEVENT
DTSTART;TZID=Europe/Berlin:20251230T070000
DTEND;TZID=Europe/Berlin:20251230T080000
DTSTAMP:20260420T073433
CREATED:20251228T091341Z
LAST-MODIFIED:20251228T091341Z
UID:10000402-1767078000-1767081600@pk-proevent.de
SUMMARY:Nüchterntraining
DESCRIPTION:
URL:https://pk-proevent.de/veranstaltungen/nuechterntraining-83/
LOCATION:Protrain\, Poststraße 1\, Emmelshausen\, 56281
CATEGORIES:Kursplan
END:VEVENT
BEGIN:VEVENT
DTSTART;TZID=Europe/Berlin:20251229T203000
DTEND;TZID=Europe/Berlin:20251229T213000
DTSTAMP:20260420T073433
CREATED:20251228T091244Z
LAST-MODIFIED:20251228T091244Z
UID:10000401-1767040200-1767043800@pk-proevent.de
SUMMARY:Fatburner / Regeneration
DESCRIPTION:
URL:https://pk-proevent.de/veranstaltungen/fatburner-regeneration/
LOCATION:Protrain\, Poststraße 1\, Emmelshausen\, 56281
CATEGORIES:Kursplan
END:VEVENT
BEGIN:VEVENT
DTSTART;TZID=Europe/Berlin:20251228T080000
DTEND;TZID=Europe/Berlin:20251228T090000
DTSTAMP:20260420T073433
CREATED:20251224T062547Z
LAST-MODIFIED:20251224T062547Z
UID:10000400-1766908800-1766912400@pk-proevent.de
SUMMARY:Nüchterntraining
DESCRIPTION:
URL:https://pk-proevent.de/veranstaltungen/nuechterntraining-82/
LOCATION:Protrain\, Poststraße 1\, Emmelshausen\, 56281
CATEGORIES:Kursplan
END:VEVENT
BEGIN:VEVENT
DTSTART;TZID=Europe/Berlin:20251227T080000
DTEND;TZID=Europe/Berlin:20251227T090000
DTSTAMP:20260420T073433
CREATED:20251224T062455Z
LAST-MODIFIED:20251224T062743Z
UID:10000399-1766822400-1766826000@pk-proevent.de
SUMMARY:Nüchterntraining
DESCRIPTION:
URL:https://pk-proevent.de/veranstaltungen/nuechterntraining-79/
LOCATION:Protrain\, Poststraße 1\, Emmelshausen\, 56281
CATEGORIES:Kursplan
END:VEVENT
BEGIN:VEVENT
DTSTART;TZID=Europe/Berlin:20251224T090000
DTEND;TZID=Europe/Berlin:20251224T100000
DTSTAMP:20260420T073433
CREATED:20251214T150352Z
LAST-MODIFIED:20251218T093339Z
UID:10000394-1766566800-1766570400@pk-proevent.de
SUMMARY:Weihnachtsspecial
DESCRIPTION:
URL:https://pk-proevent.de/veranstaltungen/weihnachtsspecial/
LOCATION:Protrain\, Poststraße 1\, Emmelshausen\, 56281
CATEGORIES:Kursplan
END:VEVENT
BEGIN:VEVENT
DTSTART;TZID=Europe/Berlin:20251224T063000
DTEND;TZID=Europe/Berlin:20251224T073000
DTSTAMP:20260420T073433
CREATED:20251222T054611Z
LAST-MODIFIED:20251225T122039Z
UID:10000398-1766557800-1766561400@pk-proevent.de
SUMMARY:Nüchterntraining
DESCRIPTION:
URL:https://pk-proevent.de/veranstaltungen/nuechterntraining-77/
LOCATION:Protrain\, Poststraße 1\, Emmelshausen\, 56281
CATEGORIES:Kursplan
END:VEVENT
BEGIN:VEVENT
DTSTART;TZID=Europe/Berlin:20251223T181500
DTEND;TZID=Europe/Berlin:20251223T194500
DTSTAMP:20260420T073433
CREATED:20251012T092105Z
LAST-MODIFIED:20251218T093435Z
UID:10000355-1766513700-1766519100@pk-proevent.de
SUMMARY:VDM - Variable Dauermethode
DESCRIPTION:
URL:https://pk-proevent.de/veranstaltungen/vdm-variable-dauermethode-10/
LOCATION:Protrain\, Poststraße 1\, Emmelshausen\, 56281
CATEGORIES:Kursplan
END:VEVENT
BEGIN:VEVENT
DTSTART;TZID=Europe/Berlin:20251222T055000
DTEND;TZID=Europe/Berlin:20251222T065000
DTSTAMP:20260420T073433
CREATED:20251012T095257Z
LAST-MODIFIED:20251218T093515Z
UID:10000383-1766382600-1766386200@pk-proevent.de
SUMMARY:Nüchterntraining
DESCRIPTION:
URL:https://pk-proevent.de/veranstaltungen/nuechterntraining-81/
LOCATION:Protrain\, Poststraße 1\, Emmelshausen\, 56281
CATEGORIES:Kursplan
END:VEVENT
BEGIN:VEVENT
DTSTART;TZID=Europe/Berlin:20251221T090000
DTEND;TZID=Europe/Berlin:20251221T100000
DTSTAMP:20260420T073433
CREATED:20251214T105859Z
LAST-MODIFIED:20251214T105859Z
UID:10000393-1766307600-1766311200@pk-proevent.de
SUMMARY:Nüchterntraining
DESCRIPTION:
URL:https://pk-proevent.de/veranstaltungen/nuechterntraining-76/
LOCATION:Protrain\, Poststraße 1\, Emmelshausen\, 56281
CATEGORIES:Kursplan
END:VEVENT
BEGIN:VEVENT
DTSTART;TZID=Europe/Berlin:20251220T080000
DTEND;TZID=Europe/Berlin:20251220T090000
DTSTAMP:20260420T073433
CREATED:20251214T101524Z
LAST-MODIFIED:20251214T101524Z
UID:10000392-1766217600-1766221200@pk-proevent.de
SUMMARY:Nüchterntraining
DESCRIPTION:
URL:https://pk-proevent.de/veranstaltungen/nuechterntraining-75/
LOCATION:Protrain\, Poststraße 1\, Emmelshausen\, 56281
CATEGORIES:Kursplan
END:VEVENT
BEGIN:VEVENT
DTSTART;TZID=Europe/Berlin:20251219T055000
DTEND;TZID=Europe/Berlin:20251219T065000
DTSTAMP:20260420T073433
CREATED:20251012T095144Z
LAST-MODIFIED:20251012T095144Z
UID:10000382-1766123400-1766127000@pk-proevent.de
SUMMARY:Nüchterntraining
DESCRIPTION:mit Dominik Maier
URL:https://pk-proevent.de/veranstaltungen/nuechterntraining-80/
LOCATION:Protrain\, Poststraße 1\, Emmelshausen\, 56281
CATEGORIES:Kursplan
END:VEVENT
BEGIN:VEVENT
DTSTART;TZID=Europe/Berlin:20251218T190000
DTEND;TZID=Europe/Berlin:20251218T200000
DTSTAMP:20260420T073433
CREATED:20251012T094244Z
LAST-MODIFIED:20251214T101326Z
UID:10000373-1766084400-1766088000@pk-proevent.de
SUMMARY:VDM - Variable Dauermethode
DESCRIPTION:mit Leon Linke
URL:https://pk-proevent.de/veranstaltungen/ptp-vdm-variable-dauermethode-13/
LOCATION:Protrain\, Poststraße 1\, Emmelshausen\, 56281
CATEGORIES:Kursplan
END:VEVENT
BEGIN:VEVENT
DTSTART;TZID=Europe/Berlin:20251218T180000
DTEND;TZID=Europe/Berlin:20251218T190000
DTSTAMP:20260420T073433
CREATED:20251012T094155Z
LAST-MODIFIED:20251214T101326Z
UID:10000372-1766080800-1766084400@pk-proevent.de
SUMMARY:VDM - Variable Dauermethode
DESCRIPTION:mit Leon Linke
URL:https://pk-proevent.de/veranstaltungen/ptp-vdm-variable-dauermethode-12/
LOCATION:Protrain\, Poststraße 1\, Emmelshausen\, 56281
CATEGORIES:Kursplan
END:VEVENT
BEGIN:VEVENT
DTSTART;TZID=Europe/Berlin:20251215T055000
DTEND;TZID=Europe/Berlin:20251215T065000
DTSTAMP:20260420T073433
CREATED:20251012T094958Z
LAST-MODIFIED:20251012T094958Z
UID:10000380-1765777800-1765781400@pk-proevent.de
SUMMARY:Nüchterntraining
DESCRIPTION:mit Patrick Klein
URL:https://pk-proevent.de/veranstaltungen/nuechterntraining-78/
LOCATION:Protrain\, Poststraße 1\, Emmelshausen\, 56281
CATEGORIES:Kursplan
END:VEVENT
BEGIN:VEVENT
DTSTART;TZID=Europe/Berlin:20251214T080000
DTEND;TZID=Europe/Berlin:20251214T090000
DTSTAMP:20260420T073433
CREATED:20251207T133155Z
LAST-MODIFIED:20251207T133155Z
UID:10000389-1765699200-1765702800@pk-proevent.de
SUMMARY:Nüchterntraining
DESCRIPTION:
URL:https://pk-proevent.de/veranstaltungen/nuechterntraining-65/
LOCATION:Protrain\, Poststraße 1\, Emmelshausen\, 56281
CATEGORIES:Kursplan
END:VEVENT
BEGIN:VEVENT
DTSTART;TZID=Europe/Berlin:20251211T190000
DTEND;TZID=Europe/Berlin:20251211T200000
DTSTAMP:20260420T073433
CREATED:20251012T094103Z
LAST-MODIFIED:20251012T094103Z
UID:10000371-1765479600-1765483200@pk-proevent.de
SUMMARY:PTP / VDM - Variable Dauermethode
DESCRIPTION:mit Lukas Linke
URL:https://pk-proevent.de/veranstaltungen/ptp-vdm-variable-dauermethode-11/
LOCATION:Protrain\, Poststraße 1\, Emmelshausen\, 56281
CATEGORIES:Kursplan
END:VEVENT
BEGIN:VEVENT
DTSTART;TZID=Europe/Berlin:20251211T180000
DTEND;TZID=Europe/Berlin:20251211T190000
DTSTAMP:20260420T073433
CREATED:20251012T093844Z
LAST-MODIFIED:20251012T093844Z
UID:10000370-1765476000-1765479600@pk-proevent.de
SUMMARY:PTP / VDM - Variable Dauermethode
DESCRIPTION:mit Lukas Linke
URL:https://pk-proevent.de/veranstaltungen/ptp-vdm-variable-dauermethode-10/
LOCATION:Protrain\, Poststraße 1\, Emmelshausen\, 56281
CATEGORIES:Kursplan
END:VEVENT
BEGIN:VEVENT
DTSTART;TZID=Europe/Berlin:20251209T181500
DTEND;TZID=Europe/Berlin:20251209T194500
DTSTAMP:20260420T073433
CREATED:20251012T091917Z
LAST-MODIFIED:20251012T091917Z
UID:10000353-1765304100-1765309500@pk-proevent.de
SUMMARY:VDM - Variable Dauermethode
DESCRIPTION:mit Leon Linke
URL:https://pk-proevent.de/veranstaltungen/vdm-variable-dauermethode-8/
LOCATION:Protrain\, Poststraße 1\, Emmelshausen\, 56281
CATEGORIES:Kursplan
END:VEVENT
BEGIN:VEVENT
DTSTART;TZID=Europe/Berlin:20251207T080000
DTEND;TZID=Europe/Berlin:20251207T093000
DTSTAMP:20260420T073433
CREATED:20251207T133225Z
LAST-MODIFIED:20251207T133225Z
UID:10000390-1765094400-1765099800@pk-proevent.de
SUMMARY:Nüchterntraining
DESCRIPTION:
URL:https://pk-proevent.de/veranstaltungen/nuechterntraining-72/
LOCATION:Protrain\, Poststraße 1\, Emmelshausen\, 56281
CATEGORIES:Kursplan
END:VEVENT
BEGIN:VEVENT
DTSTART;TZID=Europe/Berlin:20251205T055000
DTEND;TZID=Europe/Berlin:20251205T065000
DTSTAMP:20260420T073433
CREATED:20251012T094546Z
LAST-MODIFIED:20251012T094546Z
UID:10000376-1764913800-1764917400@pk-proevent.de
SUMMARY:Nüchterntraining
DESCRIPTION:mit Patrick Klein
URL:https://pk-proevent.de/veranstaltungen/nuechterntraining-74/
LOCATION:Protrain\, Poststraße 1\, Emmelshausen\, 56281
CATEGORIES:Kursplan
END:VEVENT
BEGIN:VEVENT
DTSTART;TZID=Europe/Berlin:20251204T190000
DTEND;TZID=Europe/Berlin:20251204T200000
DTSTAMP:20260420T073433
CREATED:20251012T093733Z
LAST-MODIFIED:20251012T093733Z
UID:10000369-1764874800-1764878400@pk-proevent.de
SUMMARY:PTP / VDM - Variable Dauermethode
DESCRIPTION:mit Patrick Klein
URL:https://pk-proevent.de/veranstaltungen/ptp-vdm-variable-dauermethode-9/
LOCATION:Protrain\, Poststraße 1\, Emmelshausen\, 56281
CATEGORIES:Kursplan
END:VEVENT
BEGIN:VEVENT
DTSTART;TZID=Europe/Berlin:20251204T180000
DTEND;TZID=Europe/Berlin:20251204T190000
DTSTAMP:20260420T073433
CREATED:20251012T093610Z
LAST-MODIFIED:20251012T093610Z
UID:10000368-1764871200-1764874800@pk-proevent.de
SUMMARY:PTP / VDM - Variable Dauermethode
DESCRIPTION:mit Patrick Klein
URL:https://pk-proevent.de/veranstaltungen/ptp-vdm-variable-dauermethode-8/
LOCATION:Protrain\, Poststraße 1\, Emmelshausen\, 56281
CATEGORIES:Kursplan
END:VEVENT
BEGIN:VEVENT
DTSTART;TZID=Europe/Berlin:20251203T055000
DTEND;TZID=Europe/Berlin:20251203T065000
DTSTAMP:20260420T073433
CREATED:20251012T094444Z
LAST-MODIFIED:20251012T094444Z
UID:10000375-1764741000-1764744600@pk-proevent.de
SUMMARY:Nüchterntraining
DESCRIPTION:mit Lukas Linke
URL:https://pk-proevent.de/veranstaltungen/nuechterntraining-73/
LOCATION:Protrain\, Poststraße 1\, Emmelshausen\, 56281
CATEGORIES:Kursplan
END:VEVENT
BEGIN:VEVENT
DTSTART;TZID=Europe/Berlin:20251128T055000
DTEND;TZID=Europe/Berlin:20251128T065000
DTSTAMP:20260420T073433
CREATED:20251012T090102Z
LAST-MODIFIED:20251012T090102Z
UID:10000308-1764309000-1764312600@pk-proevent.de
SUMMARY:Nüchterntraining
DESCRIPTION:mit Lukas Linke
URL:https://pk-proevent.de/veranstaltungen/nuechterntraining-71/
LOCATION:Protrain\, Poststraße 1\, Emmelshausen\, 56281
CATEGORIES:Kursplan
END:VEVENT
BEGIN:VEVENT
DTSTART;TZID=Europe/Berlin:20251127T190000
DTEND;TZID=Europe/Berlin:20251127T200000
DTSTAMP:20260420T073433
CREATED:20251012T093510Z
LAST-MODIFIED:20251012T093510Z
UID:10000367-1764270000-1764273600@pk-proevent.de
SUMMARY:PTP / VDM - Variable Dauermethode
DESCRIPTION:mit Patrick Klein
URL:https://pk-proevent.de/veranstaltungen/ptp-vdm-variable-dauermethode-7/
LOCATION:Protrain\, Poststraße 1\, Emmelshausen\, 56281
CATEGORIES:Kursplan
END:VEVENT
BEGIN:VEVENT
DTSTART;TZID=Europe/Berlin:20251127T180000
DTEND;TZID=Europe/Berlin:20251127T190000
DTSTAMP:20260420T073433
CREATED:20251012T093416Z
LAST-MODIFIED:20251012T093416Z
UID:10000366-1764266400-1764270000@pk-proevent.de
SUMMARY:PTP / VDM - Variable Dauermethode
DESCRIPTION:mit Patrick Klein
URL:https://pk-proevent.de/veranstaltungen/ptp-vdm-variable-dauermethode-6/
LOCATION:Protrain\, Poststraße 1\, Emmelshausen\, 56281
CATEGORIES:Kursplan
END:VEVENT
BEGIN:VEVENT
DTSTART;TZID=Europe/Berlin:20251126T055000
DTEND;TZID=Europe/Berlin:20251126T065000
DTSTAMP:20260420T073433
CREATED:20251012T085959Z
LAST-MODIFIED:20251012T085959Z
UID:10000307-1764136200-1764139800@pk-proevent.de
SUMMARY:Nüchterntraining
DESCRIPTION:mit Patrick Klein
URL:https://pk-proevent.de/veranstaltungen/nuechterntraining-70/
LOCATION:Protrain\, Poststraße 1\, Emmelshausen\, 56281
CATEGORIES:Kursplan
END:VEVENT
BEGIN:VEVENT
DTSTART;TZID=Europe/Berlin:20251125T181500
DTEND;TZID=Europe/Berlin:20251125T194500
DTSTAMP:20260420T073433
CREATED:20251012T091718Z
LAST-MODIFIED:20251012T091718Z
UID:10000351-1764094500-1764099900@pk-proevent.de
SUMMARY:VDM - Variable Dauermethode
DESCRIPTION:mit Patrick Klein
URL:https://pk-proevent.de/veranstaltungen/vdm-variable-dauermethode-6/
LOCATION:Protrain\, Poststraße 1\, Emmelshausen\, 56281
CATEGORIES:Kursplan
END:VEVENT
BEGIN:VEVENT
DTSTART;TZID=Europe/Berlin:20251124T055000
DTEND;TZID=Europe/Berlin:20251124T065000
DTSTAMP:20260420T073433
CREATED:20251012T085846Z
LAST-MODIFIED:20251012T085846Z
UID:10000306-1763963400-1763967000@pk-proevent.de
SUMMARY:Nüchterntraining
DESCRIPTION:mit Patrick Klein
URL:https://pk-proevent.de/veranstaltungen/nuechterntraining-69/
LOCATION:Protrain\, Poststraße 1\, Emmelshausen\, 56281
CATEGORIES:Kursplan
END:VEVENT
END:VCALENDAR