BEGIN:VCALENDAR
VERSION:2.0
PRODID:-//ProEvent - ECPv6.15.17.1//NONSGML v1.0//EN
CALSCALE:GREGORIAN
METHOD:PUBLISH
X-WR-CALNAME:ProEvent
X-ORIGINAL-URL:https://pk-proevent.de
X-WR-CALDESC:Veranstaltungen für ProEvent
REFRESH-INTERVAL;VALUE=DURATION:PT1H
X-Robots-Tag:noindex
X-PUBLISHED-TTL:PT1H
BEGIN:VTIMEZONE
TZID:Europe/Berlin
BEGIN:DAYLIGHT
TZOFFSETFROM:+0100
TZOFFSETTO:+0200
TZNAME:CEST
DTSTART:20230326T010000
END:DAYLIGHT
BEGIN:STANDARD
TZOFFSETFROM:+0200
TZOFFSETTO:+0100
TZNAME:CET
DTSTART:20231029T010000
END:STANDARD
BEGIN:DAYLIGHT
TZOFFSETFROM:+0100
TZOFFSETTO:+0200
TZNAME:CEST
DTSTART:20240331T010000
END:DAYLIGHT
BEGIN:STANDARD
TZOFFSETFROM:+0200
TZOFFSETTO:+0100
TZNAME:CET
DTSTART:20241027T010000
END:STANDARD
BEGIN:DAYLIGHT
TZOFFSETFROM:+0100
TZOFFSETTO:+0200
TZNAME:CEST
DTSTART:20250330T010000
END:DAYLIGHT
BEGIN:STANDARD
TZOFFSETFROM:+0200
TZOFFSETTO:+0100
TZNAME:CET
DTSTART:20251026T010000
END:STANDARD
END:VTIMEZONE
BEGIN:VEVENT
DTSTART;TZID=Europe/Berlin:20241210T181500
DTEND;TZID=Europe/Berlin:20241210T194500
DTSTAMP:20260420T215541
CREATED:20241208T144925Z
LAST-MODIFIED:20241208T144925Z
UID:10000149-1733854500-1733859900@pk-proevent.de
SUMMARY:Grundlage
DESCRIPTION:
URL:https://pk-proevent.de/veranstaltungen/grundlage-9/
LOCATION:Protrain\, Poststraße 1\, Emmelshausen\, 56281
CATEGORIES:Kursplan
END:VEVENT
BEGIN:VEVENT
DTSTART;TZID=Europe/Berlin:20241212T180000
DTEND;TZID=Europe/Berlin:20241212T190000
DTSTAMP:20260420T215541
CREATED:20241208T145021Z
LAST-MODIFIED:20241208T145021Z
UID:10000150-1734026400-1734030000@pk-proevent.de
SUMMARY:Grundlage
DESCRIPTION:
URL:https://pk-proevent.de/veranstaltungen/grundlage-10/
LOCATION:Protrain\, Poststraße 1\, Emmelshausen\, 56281
CATEGORIES:Kursplan
END:VEVENT
BEGIN:VEVENT
DTSTART;TZID=Europe/Berlin:20241212T190000
DTEND;TZID=Europe/Berlin:20241212T200000
DTSTAMP:20260420T215541
CREATED:20241208T145058Z
LAST-MODIFIED:20241208T145058Z
UID:10000151-1734030000-1734033600@pk-proevent.de
SUMMARY:Grundlage
DESCRIPTION:
URL:https://pk-proevent.de/veranstaltungen/grundlage-11/
LOCATION:Protrain\, Poststraße 1\, Emmelshausen\, 56281
CATEGORIES:Kursplan
END:VEVENT
BEGIN:VEVENT
DTSTART;TZID=Europe/Berlin:20241227T180000
DTEND;TZID=Europe/Berlin:20241227T210000
DTSTAMP:20260420T215541
CREATED:20241209T135234Z
LAST-MODIFIED:20241209T135234Z
UID:10000152-1735322400-1735333200@pk-proevent.de
SUMMARY:50 Shades of Indoorcycling - Part 1
DESCRIPTION:
URL:https://pk-proevent.de/veranstaltungen/50-shades-of-indoorcycling-part-1/
LOCATION:Protrain\, Poststraße 1\, Emmelshausen\, 56281
CATEGORIES:Kursplan
END:VEVENT
BEGIN:VEVENT
DTSTART;TZID=Europe/Berlin:20241228T100000
DTEND;TZID=Europe/Berlin:20241228T150000
DTSTAMP:20260420T215541
CREATED:20241209T135319Z
LAST-MODIFIED:20241209T135319Z
UID:10000153-1735380000-1735398000@pk-proevent.de
SUMMARY:50 Shades of Indoorcycling - Part 2
DESCRIPTION:
URL:https://pk-proevent.de/veranstaltungen/50-shades-of-indoorcycling-part-2/
LOCATION:Protrain\, Poststraße 1\, Emmelshausen\, 56281
CATEGORIES:Kursplan
END:VEVENT
BEGIN:VEVENT
DTSTART;TZID=Europe/Berlin:20241229T110000
DTEND;TZID=Europe/Berlin:20241229T150000
DTSTAMP:20260420T215541
CREATED:20241209T135352Z
LAST-MODIFIED:20241209T135352Z
UID:10000154-1735470000-1735484400@pk-proevent.de
SUMMARY:50 Shades of Indoorcycling - Part 3
DESCRIPTION:
URL:https://pk-proevent.de/veranstaltungen/50-shades-of-indoorcycling-part-3/
LOCATION:Protrain\, Poststraße 1\, Emmelshausen\, 56281
CATEGORIES:Kursplan
END:VEVENT
BEGIN:VEVENT
DTSTART;TZID=Europe/Berlin:20241230T180000
DTEND;TZID=Europe/Berlin:20241230T210000
DTSTAMP:20260420T215541
CREATED:20241209T135431Z
LAST-MODIFIED:20241209T135431Z
UID:10000155-1735581600-1735592400@pk-proevent.de
SUMMARY:50 Shades of Indoorcycling - Part 4
DESCRIPTION:
URL:https://pk-proevent.de/veranstaltungen/50-shades-of-indoorcycling-part-4/
LOCATION:Protrain\, Poststraße 1\, Emmelshausen\, 56281
CATEGORIES:Kursplan
END:VEVENT
BEGIN:VEVENT
DTSTART;TZID=Europe/Berlin:20241231T090000
DTEND;TZID=Europe/Berlin:20241231T120000
DTSTAMP:20260420T215541
CREATED:20241209T135527Z
LAST-MODIFIED:20241209T135527Z
UID:10000156-1735635600-1735646400@pk-proevent.de
SUMMARY:50 Shades of Indoorcycling - Part 5
DESCRIPTION:
URL:https://pk-proevent.de/veranstaltungen/50-shades-of-indoorcycling-part-5/
LOCATION:Protrain\, Poststraße 1\, Emmelshausen\, 56281
CATEGORIES:Kursplan
END:VEVENT
END:VCALENDAR