BEGIN:VCALENDAR
VERSION:2.0
PRODID:-//ProEvent - ECPv6.15.17.1//NONSGML v1.0//EN
CALSCALE:GREGORIAN
METHOD:PUBLISH
X-ORIGINAL-URL:https://pk-proevent.de
X-WR-CALDESC:Veranstaltungen für ProEvent
REFRESH-INTERVAL;VALUE=DURATION:PT1H
X-Robots-Tag:noindex
X-PUBLISHED-TTL:PT1H
BEGIN:VTIMEZONE
TZID:Europe/Berlin
BEGIN:DAYLIGHT
TZOFFSETFROM:+0100
TZOFFSETTO:+0200
TZNAME:CEST
DTSTART:20240331T010000
END:DAYLIGHT
BEGIN:STANDARD
TZOFFSETFROM:+0200
TZOFFSETTO:+0100
TZNAME:CET
DTSTART:20241027T010000
END:STANDARD
BEGIN:DAYLIGHT
TZOFFSETFROM:+0100
TZOFFSETTO:+0200
TZNAME:CEST
DTSTART:20250330T010000
END:DAYLIGHT
BEGIN:STANDARD
TZOFFSETFROM:+0200
TZOFFSETTO:+0100
TZNAME:CET
DTSTART:20251026T010000
END:STANDARD
BEGIN:DAYLIGHT
TZOFFSETFROM:+0100
TZOFFSETTO:+0200
TZNAME:CEST
DTSTART:20260329T010000
END:DAYLIGHT
BEGIN:STANDARD
TZOFFSETFROM:+0200
TZOFFSETTO:+0100
TZNAME:CET
DTSTART:20261025T010000
END:STANDARD
END:VTIMEZONE
BEGIN:VEVENT
DTSTART;TZID=Europe/Berlin:20250303T055000
DTEND;TZID=Europe/Berlin:20250303T065000
DTSTAMP:20260420T165613
CREATED:20250210T085907Z
LAST-MODIFIED:20250210T085907Z
UID:10000190-1740981000-1740984600@pk-proevent.de
SUMMARY:Rosenmontagnüchterntraining
DESCRIPTION:mit Patrick
URL:https://pk-proevent.de/veranstaltungen/rosenmontagnuechterntraining/
LOCATION:Protrain\, Poststraße 1\, Emmelshausen\, 56281
CATEGORIES:Kursplan
END:VEVENT
BEGIN:VEVENT
DTSTART;TZID=Europe/Berlin:20250304T181500
DTEND;TZID=Europe/Berlin:20250304T194500
DTSTAMP:20260420T165613
CREATED:20250210T090009Z
LAST-MODIFIED:20250210T091117Z
UID:10000191-1741112100-1741117500@pk-proevent.de
SUMMARY:Antikarnevalsindoorcycling für Daheimgebliebene
DESCRIPTION:mit Patrick
URL:https://pk-proevent.de/veranstaltungen/antikarnevalsindoorcycling-fuer-daheimgebliebene/
LOCATION:Protrain\, Poststraße 1\, Emmelshausen\, 56281
CATEGORIES:Kursplan
END:VEVENT
BEGIN:VEVENT
DTSTART;TZID=Europe/Berlin:20250305T055000
DTEND;TZID=Europe/Berlin:20250305T065000
DTSTAMP:20260420T165613
CREATED:20250210T090120Z
LAST-MODIFIED:20250210T091829Z
UID:10000192-1741153800-1741157400@pk-proevent.de
SUMMARY:Katercycling am Aschermittwoch
DESCRIPTION:mit Patrick
URL:https://pk-proevent.de/veranstaltungen/katercycling-am-aschermittwoch/
LOCATION:Protrain\, Poststraße 1\, Emmelshausen\, 56281
CATEGORIES:Kursplan
END:VEVENT
BEGIN:VEVENT
DTSTART;TZID=Europe/Berlin:20250306T180000
DTEND;TZID=Europe/Berlin:20250306T190000
DTSTAMP:20260420T165613
CREATED:20250210T090227Z
LAST-MODIFIED:20250210T091611Z
UID:10000193-1741284000-1741287600@pk-proevent.de
SUMMARY:Intervalltraining im mittleren Tempo
DESCRIPTION:mit Patrick
URL:https://pk-proevent.de/veranstaltungen/intervalltraining-im-mittleren-tempo/
LOCATION:Protrain\, Poststraße 1\, Emmelshausen\, 56281
CATEGORIES:Kursplan
END:VEVENT
BEGIN:VEVENT
DTSTART;TZID=Europe/Berlin:20250306T190000
DTEND;TZID=Europe/Berlin:20250306T200000
DTSTAMP:20260420T165613
CREATED:20250210T090327Z
LAST-MODIFIED:20250210T091515Z
UID:10000194-1741287600-1741291200@pk-proevent.de
SUMMARY:Enjoy the silence
DESCRIPTION:mit Patrick
URL:https://pk-proevent.de/veranstaltungen/enjoy-the-silence/
LOCATION:Protrain\, Poststraße 1\, Emmelshausen\, 56281
CATEGORIES:Kursplan
END:VEVENT
BEGIN:VEVENT
DTSTART;TZID=Europe/Berlin:20250307T055000
DTEND;TZID=Europe/Berlin:20250307T065000
DTSTAMP:20260420T165613
CREATED:20250210T090436Z
LAST-MODIFIED:20250210T090436Z
UID:10000195-1741326600-1741330200@pk-proevent.de
SUMMARY:Die dritte Nüchterneinheit die Woche
DESCRIPTION:mit Patrick
URL:https://pk-proevent.de/veranstaltungen/die-dritte-nuechterneinheit-die-woche/
LOCATION:Protrain\, Poststraße 1\, Emmelshausen\, 56281
CATEGORIES:Kursplan
END:VEVENT
BEGIN:VEVENT
DTSTART;TZID=Europe/Berlin:20250307T180000
DTEND;TZID=Europe/Berlin:20250307T190000
DTSTAMP:20260420T165613
CREATED:20250210T090527Z
LAST-MODIFIED:20250210T090527Z
UID:10000196-1741370400-1741374000@pk-proevent.de
SUMMARY:Intervalltraining am Berg
DESCRIPTION:mit Leon
URL:https://pk-proevent.de/veranstaltungen/intervalltraining-am-berg-2/
LOCATION:Protrain\, Poststraße 1\, Emmelshausen\, 56281
END:VEVENT
BEGIN:VEVENT
DTSTART;TZID=Europe/Berlin:20250314T055000
DTEND;TZID=Europe/Berlin:20250314T065000
DTSTAMP:20260420T165613
CREATED:20250309T145915Z
LAST-MODIFIED:20250309T145915Z
UID:10000197-1741931400-1741935000@pk-proevent.de
SUMMARY:Nüchterntraining
DESCRIPTION:mit Patrick
URL:https://pk-proevent.de/veranstaltungen/nuechterntraining-30/
LOCATION:Protrain\, Poststraße 1\, Emmelshausen\, 56281
CATEGORIES:Kursplan
END:VEVENT
BEGIN:VEVENT
DTSTART;TZID=Europe/Berlin:20250314T055000
DTEND;TZID=Europe/Berlin:20250314T065000
DTSTAMP:20260420T165613
CREATED:20250314T145451Z
LAST-MODIFIED:20250314T145451Z
UID:10000202-1741931400-1741935000@pk-proevent.de
SUMMARY:Nüchterntraining
DESCRIPTION:
URL:https://pk-proevent.de/veranstaltungen/nuechterntraining-31/
LOCATION:Protrain\, Poststraße 1\, Emmelshausen\, 56281
CATEGORIES:Kursplan
END:VEVENT
BEGIN:VEVENT
DTSTART;TZID=Europe/Berlin:20250316T100000
DTEND;TZID=Europe/Berlin:20250316T153000
DTSTAMP:20260420T165613
CREATED:20250309T150105Z
LAST-MODIFIED:20250309T150105Z
UID:10000198-1742119200-1742139000@pk-proevent.de
SUMMARY:Großglockner mit ca. 2700 Höhenmetern
DESCRIPTION:mit Patrick
URL:https://pk-proevent.de/veranstaltungen/grossglockner-mit-ca-2700-hoehenmetern/
LOCATION:Protrain\, Poststraße 1\, Emmelshausen\, 56281
CATEGORIES:Kursplan
END:VEVENT
BEGIN:VEVENT
DTSTART;TZID=Europe/Berlin:20250318T181500
DTEND;TZID=Europe/Berlin:20250318T194500
DTSTAMP:20260420T165613
CREATED:20250309T150318Z
LAST-MODIFIED:20250314T145216Z
UID:10000199-1742321700-1742327100@pk-proevent.de
SUMMARY:Techniktraining
DESCRIPTION:
URL:https://pk-proevent.de/veranstaltungen/fartlek-20/
LOCATION:Protrain\, Poststraße 1\, Emmelshausen\, 56281
CATEGORIES:Kursplan
END:VEVENT
BEGIN:VEVENT
DTSTART;TZID=Europe/Berlin:20250319T055000
DTEND;TZID=Europe/Berlin:20250319T065000
DTSTAMP:20260420T165613
CREATED:20250314T220437Z
LAST-MODIFIED:20250314T220437Z
UID:10000206-1742363400-1742367000@pk-proevent.de
SUMMARY:Nüchterntraining
DESCRIPTION:mit Patrick
URL:https://pk-proevent.de/veranstaltungen/nuechterntraining-32/
LOCATION:Protrain\, Poststraße 1\, Emmelshausen\, 56281
CATEGORIES:Kursplan
END:VEVENT
BEGIN:VEVENT
DTSTART;TZID=Europe/Berlin:20250320T180000
DTEND;TZID=Europe/Berlin:20250320T190000
DTSTAMP:20260420T165613
CREATED:20250309T150435Z
LAST-MODIFIED:20250314T145318Z
UID:10000200-1742493600-1742497200@pk-proevent.de
SUMMARY:Tabatatraining
DESCRIPTION:
URL:https://pk-proevent.de/veranstaltungen/intervalle-am-berg-2/
LOCATION:Protrain\, Poststraße 1\, Emmelshausen\, 56281
CATEGORIES:Kursplan
END:VEVENT
BEGIN:VEVENT
DTSTART;TZID=Europe/Berlin:20250320T190000
DTEND;TZID=Europe/Berlin:20250320T200000
DTSTAMP:20260420T165613
CREATED:20250309T150558Z
LAST-MODIFIED:20250314T145358Z
UID:10000201-1742497200-1742500800@pk-proevent.de
SUMMARY:Fatburner
DESCRIPTION:
URL:https://pk-proevent.de/veranstaltungen/variable-dauermethode/
LOCATION:Protrain\, Poststraße 1\, Emmelshausen\, 56281
CATEGORIES:Kursplan
END:VEVENT
BEGIN:VEVENT
DTSTART;TZID=Europe/Berlin:20250325T181500
DTEND;TZID=Europe/Berlin:20250325T194500
DTSTAMP:20260420T165613
CREATED:20250314T215757Z
LAST-MODIFIED:20250324T133929Z
UID:10000203-1742926500-1742931900@pk-proevent.de
SUMMARY:Fartlek
DESCRIPTION:
URL:https://pk-proevent.de/veranstaltungen/fartlek-21/
LOCATION:Protrain\, Poststraße 1\, Emmelshausen\, 56281
CATEGORIES:Kursplan
END:VEVENT
BEGIN:VEVENT
DTSTART;TZID=Europe/Berlin:20250327T180000
DTEND;TZID=Europe/Berlin:20250327T190000
DTSTAMP:20260420T165613
CREATED:20250314T215934Z
LAST-MODIFIED:20250314T215934Z
UID:10000204-1743098400-1743102000@pk-proevent.de
SUMMARY:Intervall am Berg
DESCRIPTION:mit Leon
URL:https://pk-proevent.de/veranstaltungen/intervall-am-berg/
LOCATION:Protrain\, Poststraße 1\, Emmelshausen\, 56281
CATEGORIES:Kursplan
END:VEVENT
BEGIN:VEVENT
DTSTART;TZID=Europe/Berlin:20250327T190000
DTEND;TZID=Europe/Berlin:20250327T200000
DTSTAMP:20260420T165613
CREATED:20250314T220102Z
LAST-MODIFIED:20250314T220102Z
UID:10000205-1743102000-1743105600@pk-proevent.de
SUMMARY:Intervall in der Ebene
DESCRIPTION:mit Dominik
URL:https://pk-proevent.de/veranstaltungen/intervall-in-der-ebene/
LOCATION:Protrain\, Poststraße 1\, Emmelshausen\, 56281
CATEGORIES:Kursplan
END:VEVENT
END:VCALENDAR