BEGIN:VCALENDAR
VERSION:2.0
PRODID:-//ProEvent - ECPv6.15.17.1//NONSGML v1.0//EN
CALSCALE:GREGORIAN
METHOD:PUBLISH
X-WR-CALNAME:ProEvent
X-ORIGINAL-URL:https://pk-proevent.de
X-WR-CALDESC:Veranstaltungen für ProEvent
REFRESH-INTERVAL;VALUE=DURATION:PT1H
X-Robots-Tag:noindex
X-PUBLISHED-TTL:PT1H
BEGIN:VTIMEZONE
TZID:Europe/Berlin
BEGIN:DAYLIGHT
TZOFFSETFROM:+0100
TZOFFSETTO:+0200
TZNAME:CEST
DTSTART:20250330T010000
END:DAYLIGHT
BEGIN:STANDARD
TZOFFSETFROM:+0200
TZOFFSETTO:+0100
TZNAME:CET
DTSTART:20251026T010000
END:STANDARD
BEGIN:DAYLIGHT
TZOFFSETFROM:+0100
TZOFFSETTO:+0200
TZNAME:CEST
DTSTART:20260329T010000
END:DAYLIGHT
BEGIN:STANDARD
TZOFFSETFROM:+0200
TZOFFSETTO:+0100
TZNAME:CET
DTSTART:20261025T010000
END:STANDARD
BEGIN:DAYLIGHT
TZOFFSETFROM:+0100
TZOFFSETTO:+0200
TZNAME:CEST
DTSTART:20270328T010000
END:DAYLIGHT
BEGIN:STANDARD
TZOFFSETFROM:+0200
TZOFFSETTO:+0100
TZNAME:CET
DTSTART:20271031T010000
END:STANDARD
END:VTIMEZONE
BEGIN:VEVENT
DTSTART;TZID=Europe/Berlin:20260328T120000
DTEND;TZID=Europe/Berlin:20260328T160000
DTSTAMP:20260420T055703
CREATED:20260320T053411Z
LAST-MODIFIED:20260320T053421Z
UID:10000476-1774699200-1774713600@pk-proevent.de
SUMMARY:Die Hard - mit Andy Maus und Patrick Klein
DESCRIPTION:Versprochen ist versprochen 🙂 \n240 Minuten Die hard – Nonstop mit Andy Maus und Patrick Klein mit anschließendem gemütlichem Zusammensein ! \nBist Du dabei ?
URL:https://pk-proevent.de/veranstaltungen/die-hard-mit-andy-maus-und-patrick-klein/
LOCATION:Halsenbach\, Am Eichelgärtchen 4c\, Halsenbach\, Rheinland-Pfalz\, 56283\, Deutschland
CATEGORIES:Events
END:VEVENT
BEGIN:VEVENT
DTSTART;VALUE=DATE:20260124
DTEND;VALUE=DATE:20260126
DTSTAMP:20260420T055703
CREATED:20251214T094724Z
LAST-MODIFIED:20251218T103405Z
UID:10000391-1769212800-1769385599@pk-proevent.de
SUMMARY:PK-FIT Experience
DESCRIPTION:Erlebe messbaren Trainingserfolg am 24 & 25.01.2026: \nSpiroergometrie\, Körpervermessung\, Workshops sowie 6 Stunden Cycling mit Grillen & Frühstück.\nEin Ticket. Zwei Tage. Volle Performance und echte Gemeinschaft. \n\nAll-Inklusiv-Ticket\n24.01.2026 & 25.01.2026\n199\,-€ pro Person \n👉 Hier geht es zu unseren Events
URL:https://pk-proevent.de/veranstaltungen/pk-fit-experience/
LOCATION:Halsenbach\, Am Eichelgärtchen 4c\, Halsenbach\, Rheinland-Pfalz\, 56283\, Deutschland
CATEGORIES:Events
END:VEVENT
END:VCALENDAR