BEGIN:VCALENDAR
VERSION:2.0
PRODID:-//ProEvent - ECPv6.15.17.1//NONSGML v1.0//EN
CALSCALE:GREGORIAN
METHOD:PUBLISH
X-WR-CALNAME:ProEvent
X-ORIGINAL-URL:https://pk-proevent.de
X-WR-CALDESC:Veranstaltungen für ProEvent
REFRESH-INTERVAL;VALUE=DURATION:PT1H
X-Robots-Tag:noindex
X-PUBLISHED-TTL:PT1H
BEGIN:VTIMEZONE
TZID:Europe/Berlin
BEGIN:DAYLIGHT
TZOFFSETFROM:+0100
TZOFFSETTO:+0200
TZNAME:CEST
DTSTART:20250330T010000
END:DAYLIGHT
BEGIN:STANDARD
TZOFFSETFROM:+0200
TZOFFSETTO:+0100
TZNAME:CET
DTSTART:20251026T010000
END:STANDARD
BEGIN:DAYLIGHT
TZOFFSETFROM:+0100
TZOFFSETTO:+0200
TZNAME:CEST
DTSTART:20260329T010000
END:DAYLIGHT
BEGIN:STANDARD
TZOFFSETFROM:+0200
TZOFFSETTO:+0100
TZNAME:CET
DTSTART:20261025T010000
END:STANDARD
BEGIN:DAYLIGHT
TZOFFSETFROM:+0100
TZOFFSETTO:+0200
TZNAME:CEST
DTSTART:20270328T010000
END:DAYLIGHT
BEGIN:STANDARD
TZOFFSETFROM:+0200
TZOFFSETTO:+0100
TZNAME:CET
DTSTART:20271031T010000
END:STANDARD
END:VTIMEZONE
BEGIN:VEVENT
DTSTART;TZID=Europe/Berlin:20260415T055000
DTEND;TZID=Europe/Berlin:20260415T065000
DTSTAMP:20260419T200047
CREATED:20260412T091111Z
LAST-MODIFIED:20260413T033744Z
UID:10000486-1776232200-1776235800@pk-proevent.de
SUMMARY:Nüchterntraining
DESCRIPTION:
URL:https://pk-proevent.de/veranstaltungen/nuechterntraining-115/
LOCATION:Protrain\, Poststraße 1\, Emmelshausen\, 56281
CATEGORIES:Kursplan
END:VEVENT
BEGIN:VEVENT
DTSTART;TZID=Europe/Berlin:20260414T181500
DTEND;TZID=Europe/Berlin:20260414T194500
DTSTAMP:20260419T200047
CREATED:20260330T153910Z
LAST-MODIFIED:20260413T033833Z
UID:10000483-1776190500-1776195900@pk-proevent.de
SUMMARY:Surprise
DESCRIPTION:mit Leon Linke
URL:https://pk-proevent.de/veranstaltungen/sprint-8-2/
LOCATION:Protrain\, Poststraße 1\, Emmelshausen\, 56281
CATEGORIES:Kursplan
END:VEVENT
BEGIN:VEVENT
DTSTART;TZID=Europe/Berlin:20260414T060000
DTEND;TZID=Europe/Berlin:20260414T063500
DTSTAMP:20260419T200047
CREATED:20260413T043107Z
LAST-MODIFIED:20260413T051231Z
UID:10000487-1776146400-1776148500@pk-proevent.de
SUMMARY:Sprint 8
DESCRIPTION:
URL:https://pk-proevent.de/veranstaltungen/sprint-8-3/
LOCATION:Protrain\, Poststraße 1\, Emmelshausen\, 56281
CATEGORIES:Kursplan
END:VEVENT
BEGIN:VEVENT
DTSTART;TZID=Europe/Berlin:20260413T060000
DTEND;TZID=Europe/Berlin:20260413T063500
DTSTAMP:20260419T200047
CREATED:20260330T153643Z
LAST-MODIFIED:20260412T091018Z
UID:10000481-1776060000-1776062100@pk-proevent.de
SUMMARY:Sprint 8
DESCRIPTION:mit Patrick Klein
URL:https://pk-proevent.de/veranstaltungen/sprint-8-mit-patrick-2/
LOCATION:Protrain\, Poststraße 1\, Emmelshausen\, 56281
CATEGORIES:Kursplan
END:VEVENT
BEGIN:VEVENT
DTSTART;TZID=Europe/Berlin:20260409T180000
DTEND;TZID=Europe/Berlin:20260409T190000
DTSTAMP:20260419T200047
CREATED:20260409T135301Z
LAST-MODIFIED:20260409T135301Z
UID:10000484-1775757600-1775761200@pk-proevent.de
SUMMARY:Konstante Dauermethode
DESCRIPTION:mit Dominik Maier
URL:https://pk-proevent.de/veranstaltungen/konstante-dauermethode-4/
LOCATION:Protrain\, Poststraße 1\, Emmelshausen\, 56281
CATEGORIES:Kursplan
END:VEVENT
BEGIN:VEVENT
DTSTART;TZID=Europe/Berlin:20260409T080000
DTEND;TZID=Europe/Berlin:20260409T170000
DTSTAMP:20260419T200047
CREATED:20260409T135338Z
LAST-MODIFIED:20260409T135338Z
UID:10000485-1775721600-1775754000@pk-proevent.de
SUMMARY:Intervalle am Berg
DESCRIPTION:mit Dominik Maier
URL:https://pk-proevent.de/veranstaltungen/intervalle-am-berg-7/
LOCATION:Protrain\, Poststraße 1\, Emmelshausen\, 56281
CATEGORIES:Kursplan
END:VEVENT
BEGIN:VEVENT
DTSTART;TZID=Europe/Berlin:20260408T060000
DTEND;TZID=Europe/Berlin:20260408T063500
DTSTAMP:20260419T200047
CREATED:20260330T153520Z
LAST-MODIFIED:20260330T153520Z
UID:10000480-1775628000-1775630100@pk-proevent.de
SUMMARY:Sprint 8 mit Patrick
DESCRIPTION:
URL:https://pk-proevent.de/veranstaltungen/sprint-8-mit-patrick/
LOCATION:Protrain\, Poststraße 1\, Emmelshausen\, 56281
CATEGORIES:Kursplan
END:VEVENT
BEGIN:VEVENT
DTSTART;TZID=Europe/Berlin:20260407T181500
DTEND;TZID=Europe/Berlin:20260407T194500
DTSTAMP:20260419T200047
CREATED:20260330T153355Z
LAST-MODIFIED:20260330T153355Z
UID:10000479-1775585700-1775591100@pk-proevent.de
SUMMARY:BACK ON TRACK - Dein Comeback-Ride mit Patrick
DESCRIPTION:
URL:https://pk-proevent.de/veranstaltungen/back-on-track-dein-comeback-ride-mit-patrick/
LOCATION:Protrain\, Poststraße 1\, Emmelshausen\, 56281
CATEGORIES:Kursplan
END:VEVENT
BEGIN:VEVENT
DTSTART;TZID=Europe/Berlin:20260406T080000
DTEND;TZID=Europe/Berlin:20260406T090000
DTSTAMP:20260419T200047
CREATED:20260330T153112Z
LAST-MODIFIED:20260330T153112Z
UID:10000478-1775462400-1775466000@pk-proevent.de
SUMMARY:Osterspecial mit Patrick
DESCRIPTION:
URL:https://pk-proevent.de/veranstaltungen/osterspecial-mit-patrick/
LOCATION:Protrain\, Poststraße 1\, Emmelshausen\, 56281
CATEGORIES:Kursplan
END:VEVENT
BEGIN:VEVENT
DTSTART;TZID=Europe/Berlin:20260403T080000
DTEND;TZID=Europe/Berlin:20260403T090000
DTSTAMP:20260419T200047
CREATED:20260328T000124Z
LAST-MODIFIED:20260328T000124Z
UID:10000477-1775203200-1775206800@pk-proevent.de
SUMMARY:Ostercycling
DESCRIPTION:
URL:https://pk-proevent.de/veranstaltungen/ostercycling/
LOCATION:Protrain\, Poststraße 1\, Emmelshausen\, 56281
CATEGORIES:Kursplan
END:VEVENT
BEGIN:VEVENT
DTSTART;TZID=Europe/Berlin:20260402T190000
DTEND;TZID=Europe/Berlin:20260402T200000
DTSTAMP:20260419T200047
CREATED:20260304T172943Z
LAST-MODIFIED:20260304T172943Z
UID:10000475-1775156400-1775160000@pk-proevent.de
SUMMARY:Schiller und Paul Kalkbrenner
DESCRIPTION:mit Patrick
URL:https://pk-proevent.de/veranstaltungen/schiller-und-paul-kalkbrenner/
LOCATION:Protrain\, Poststraße 1\, Emmelshausen\, 56281
CATEGORIES:Kursplan
END:VEVENT
BEGIN:VEVENT
DTSTART;TZID=Europe/Berlin:20260402T180000
DTEND;TZID=Europe/Berlin:20260402T190000
DTSTAMP:20260419T200047
CREATED:20260304T172836Z
LAST-MODIFIED:20260304T172836Z
UID:10000474-1775152800-1775156400@pk-proevent.de
SUMMARY:Hard&Heavy
DESCRIPTION:mit Patrick
URL:https://pk-proevent.de/veranstaltungen/hardheavy/
LOCATION:Protrain\, Poststraße 1\, Emmelshausen\, 56281
CATEGORIES:Kursplan
END:VEVENT
BEGIN:VEVENT
DTSTART;TZID=Europe/Berlin:20260331T181500
DTEND;TZID=Europe/Berlin:20260331T194500
DTSTAMP:20260419T200047
CREATED:20260304T172656Z
LAST-MODIFIED:20260304T172656Z
UID:10000473-1774980900-1774986300@pk-proevent.de
SUMMARY:"Fatburner mal anders"
DESCRIPTION:mit Patrick
URL:https://pk-proevent.de/veranstaltungen/fatburner-mal-anders/
LOCATION:Protrain\, Poststraße 1\, Emmelshausen\, 56281
CATEGORIES:Kursplan
END:VEVENT
BEGIN:VEVENT
DTSTART;TZID=Europe/Berlin:20260330T055000
DTEND;TZID=Europe/Berlin:20260330T065000
DTSTAMP:20260419T200047
CREATED:20260304T171359Z
LAST-MODIFIED:20260304T171359Z
UID:10000463-1774849800-1774853400@pk-proevent.de
SUMMARY:Nüchterntraining
DESCRIPTION:mit Patrick
URL:https://pk-proevent.de/veranstaltungen/nuechterntraining-114/
LOCATION:Protrain\, Poststraße 1\, Emmelshausen\, 56281
CATEGORIES:Kursplan
END:VEVENT
BEGIN:VEVENT
DTSTART;TZID=Europe/Berlin:20260327T055000
DTEND;TZID=Europe/Berlin:20260327T065000
DTSTAMP:20260419T200047
CREATED:20260304T171250Z
LAST-MODIFIED:20260304T171250Z
UID:10000462-1774590600-1774594200@pk-proevent.de
SUMMARY:Nüchterntraining
DESCRIPTION:mit Patrick
URL:https://pk-proevent.de/veranstaltungen/nuechterntraining-113/
LOCATION:Protrain\, Poststraße 1\, Emmelshausen\, 56281
CATEGORIES:Kursplan
END:VEVENT
BEGIN:VEVENT
DTSTART;TZID=Europe/Berlin:20260326T190000
DTEND;TZID=Europe/Berlin:20260326T200000
DTSTAMP:20260419T200047
CREATED:20260304T172537Z
LAST-MODIFIED:20260304T172537Z
UID:10000472-1774551600-1774555200@pk-proevent.de
SUMMARY:Sprint 8
DESCRIPTION:mit Patrick
URL:https://pk-proevent.de/veranstaltungen/sprint-8/
LOCATION:Protrain\, Poststraße 1\, Emmelshausen\, 56281
CATEGORIES:Kursplan
END:VEVENT
BEGIN:VEVENT
DTSTART;TZID=Europe/Berlin:20260326T180000
DTEND;TZID=Europe/Berlin:20260326T190000
DTSTAMP:20260419T200047
CREATED:20260304T172439Z
LAST-MODIFIED:20260304T172439Z
UID:10000471-1774548000-1774551600@pk-proevent.de
SUMMARY:FTP20-Test
DESCRIPTION:mit Patrick
URL:https://pk-proevent.de/veranstaltungen/ftp20-test-2/
LOCATION:Protrain\, Poststraße 1\, Emmelshausen\, 56281
CATEGORIES:Kursplan
END:VEVENT
BEGIN:VEVENT
DTSTART;TZID=Europe/Berlin:20260324T181500
DTEND;TZID=Europe/Berlin:20260324T194500
DTSTAMP:20260419T200047
CREATED:20260304T172321Z
LAST-MODIFIED:20260304T172321Z
UID:10000470-1774376100-1774381500@pk-proevent.de
SUMMARY:Route 66
DESCRIPTION:mit Patrick
URL:https://pk-proevent.de/veranstaltungen/route-66/
LOCATION:Protrain\, Poststraße 1\, Emmelshausen\, 56281
CATEGORIES:Kursplan
END:VEVENT
BEGIN:VEVENT
DTSTART;TZID=Europe/Berlin:20260323T055000
DTEND;TZID=Europe/Berlin:20260323T065000
DTSTAMP:20260419T200047
CREATED:20260304T171103Z
LAST-MODIFIED:20260304T171103Z
UID:10000461-1774245000-1774248600@pk-proevent.de
SUMMARY:Nüchterntraining
DESCRIPTION:
URL:https://pk-proevent.de/veranstaltungen/nuechterntraining-112/
LOCATION:Protrain\, Poststraße 1\, Emmelshausen\, 56281
CATEGORIES:Kursplan
END:VEVENT
BEGIN:VEVENT
DTSTART;TZID=Europe/Berlin:20260321T090000
DTEND;TZID=Europe/Berlin:20260321T123000
DTSTAMP:20260419T200047
CREATED:20260304T172209Z
LAST-MODIFIED:20260304T172209Z
UID:10000469-1774083600-1774096200@pk-proevent.de
SUMMARY:Dein Berg ruft
DESCRIPTION:mit Patrick – visuell unterstützt
URL:https://pk-proevent.de/veranstaltungen/dein-berg-ruft/
LOCATION:Protrain\, Poststraße 1\, Emmelshausen\, 56281
CATEGORIES:Kursplan
END:VEVENT
BEGIN:VEVENT
DTSTART;TZID=Europe/Berlin:20260320T055000
DTEND;TZID=Europe/Berlin:20260320T065000
DTSTAMP:20260419T200047
CREATED:20260304T170943Z
LAST-MODIFIED:20260304T170943Z
UID:10000460-1773985800-1773989400@pk-proevent.de
SUMMARY:Nüchterntraining
DESCRIPTION:mit Patrick
URL:https://pk-proevent.de/veranstaltungen/nuechterntraining-111/
LOCATION:Protrain\, Poststraße 1\, Emmelshausen\, 56281
CATEGORIES:Kursplan
END:VEVENT
BEGIN:VEVENT
DTSTART;TZID=Europe/Berlin:20260319T190000
DTEND;TZID=Europe/Berlin:20260319T200000
DTSTAMP:20260419T200047
CREATED:20260304T172028Z
LAST-MODIFIED:20260304T172028Z
UID:10000468-1773946800-1773950400@pk-proevent.de
SUMMARY:Emotions
DESCRIPTION:mit Patrick
URL:https://pk-proevent.de/veranstaltungen/emotions/
LOCATION:Protrain\, Poststraße 1\, Emmelshausen\, 56281
CATEGORIES:Kursplan
END:VEVENT
BEGIN:VEVENT
DTSTART;TZID=Europe/Berlin:20260319T180000
DTEND;TZID=Europe/Berlin:20260319T190000
DTSTAMP:20260419T200047
CREATED:20260304T171920Z
LAST-MODIFIED:20260304T171920Z
UID:10000467-1773943200-1773946800@pk-proevent.de
SUMMARY:Tabata-Training
DESCRIPTION:mit Patrick
URL:https://pk-proevent.de/veranstaltungen/tabata-training-3/
LOCATION:Protrain\, Poststraße 1\, Emmelshausen\, 56281
CATEGORIES:Kursplan
END:VEVENT
BEGIN:VEVENT
DTSTART;TZID=Europe/Berlin:20260318T055000
DTEND;TZID=Europe/Berlin:20260318T065000
DTSTAMP:20260419T200047
CREATED:20260304T170841Z
LAST-MODIFIED:20260304T170841Z
UID:10000459-1773813000-1773816600@pk-proevent.de
SUMMARY:Nüchterntraining
DESCRIPTION:mit Patrick
URL:https://pk-proevent.de/veranstaltungen/nuechterntraining-110/
LOCATION:Protrain\, Poststraße 1\, Emmelshausen\, 56281
CATEGORIES:Kursplan
END:VEVENT
BEGIN:VEVENT
DTSTART;TZID=Europe/Berlin:20260317T181500
DTEND;TZID=Europe/Berlin:20260317T194500
DTSTAMP:20260419T200047
CREATED:20260304T171806Z
LAST-MODIFIED:20260304T171806Z
UID:10000466-1773771300-1773776700@pk-proevent.de
SUMMARY:It is Party Time 90 Minuten „The Best of“
DESCRIPTION:mit Patrick
URL:https://pk-proevent.de/veranstaltungen/it-is-party-time-90-minuten-the-best-of/
LOCATION:Protrain\, Poststraße 1\, Emmelshausen\, 56281
CATEGORIES:Kursplan
END:VEVENT
BEGIN:VEVENT
DTSTART;TZID=Europe/Berlin:20260316T055000
DTEND;TZID=Europe/Berlin:20260316T065000
DTSTAMP:20260419T200047
CREATED:20260304T170732Z
LAST-MODIFIED:20260304T170732Z
UID:10000458-1773640200-1773643800@pk-proevent.de
SUMMARY:Nüchterntraining
DESCRIPTION:mit Patrick
URL:https://pk-proevent.de/veranstaltungen/nuechterntraining-109/
LOCATION:Protrain\, Poststraße 1\, Emmelshausen\, 56281
CATEGORIES:Kursplan
END:VEVENT
BEGIN:VEVENT
DTSTART;TZID=Europe/Berlin:20260310T181500
DTEND;TZID=Europe/Berlin:20260310T194500
DTSTAMP:20260419T200047
CREATED:20260304T171612Z
LAST-MODIFIED:20260304T171612Z
UID:10000465-1773166500-1773171900@pk-proevent.de
SUMMARY:Intervalle am Berg
DESCRIPTION:mit Dominik
URL:https://pk-proevent.de/veranstaltungen/intervalle-am-berg-6/
LOCATION:Protrain\, Poststraße 1\, Emmelshausen\, 56281
CATEGORIES:Kursplan
END:VEVENT
BEGIN:VEVENT
DTSTART;TZID=Europe/Berlin:20260309T055000
DTEND;TZID=Europe/Berlin:20260309T065000
DTSTAMP:20260419T200047
CREATED:20260304T170610Z
LAST-MODIFIED:20260304T170610Z
UID:10000457-1773035400-1773039000@pk-proevent.de
SUMMARY:Nüchterntraining
DESCRIPTION:mit Patrick
URL:https://pk-proevent.de/veranstaltungen/nuechterntraining-108/
LOCATION:Protrain\, Poststraße 1\, Emmelshausen\, 56281
CATEGORIES:Kursplan
END:VEVENT
BEGIN:VEVENT
DTSTART;TZID=Europe/Berlin:20260307T080000
DTEND;TZID=Europe/Berlin:20260307T090000
DTSTAMP:20260419T200047
CREATED:20260226T202336Z
LAST-MODIFIED:20260226T202336Z
UID:10000456-1772870400-1772874000@pk-proevent.de
SUMMARY:Nüchterntraining
DESCRIPTION:mit Patrick
URL:https://pk-proevent.de/veranstaltungen/nuechterntraining-107/
LOCATION:Protrain\, Poststraße 1\, Emmelshausen\, 56281
CATEGORIES:Kursplan
END:VEVENT
BEGIN:VEVENT
DTSTART;TZID=Europe/Berlin:20260304T055000
DTEND;TZID=Europe/Berlin:20260304T065000
DTSTAMP:20260419T200047
CREATED:20260226T202212Z
LAST-MODIFIED:20260226T202212Z
UID:10000455-1772603400-1772607000@pk-proevent.de
SUMMARY:Nüchterntraining
DESCRIPTION:
URL:https://pk-proevent.de/veranstaltungen/nuechterntraining-106/
LOCATION:Protrain\, Poststraße 1\, Emmelshausen\, 56281
CATEGORIES:Kursplan
END:VEVENT
END:VCALENDAR