BEGIN:VCALENDAR
VERSION:2.0
PRODID:-//ProEvent - ECPv6.15.20//NONSGML v1.0//EN
CALSCALE:GREGORIAN
METHOD:PUBLISH
X-WR-CALNAME:ProEvent
X-ORIGINAL-URL:https://pk-proevent.de
X-WR-CALDESC:Veranstaltungen für ProEvent
REFRESH-INTERVAL;VALUE=DURATION:PT1H
X-Robots-Tag:noindex
X-PUBLISHED-TTL:PT1H
BEGIN:VTIMEZONE
TZID:Europe/Berlin
BEGIN:DAYLIGHT
TZOFFSETFROM:+0100
TZOFFSETTO:+0200
TZNAME:CEST
DTSTART:20240331T010000
END:DAYLIGHT
BEGIN:STANDARD
TZOFFSETFROM:+0200
TZOFFSETTO:+0100
TZNAME:CET
DTSTART:20241027T010000
END:STANDARD
BEGIN:DAYLIGHT
TZOFFSETFROM:+0100
TZOFFSETTO:+0200
TZNAME:CEST
DTSTART:20250330T010000
END:DAYLIGHT
BEGIN:STANDARD
TZOFFSETFROM:+0200
TZOFFSETTO:+0100
TZNAME:CET
DTSTART:20251026T010000
END:STANDARD
BEGIN:DAYLIGHT
TZOFFSETFROM:+0100
TZOFFSETTO:+0200
TZNAME:CEST
DTSTART:20260329T010000
END:DAYLIGHT
BEGIN:STANDARD
TZOFFSETFROM:+0200
TZOFFSETTO:+0100
TZNAME:CET
DTSTART:20261025T010000
END:STANDARD
END:VTIMEZONE
BEGIN:VEVENT
DTSTART;TZID=Europe/Berlin:20250426T150000
DTEND;TZID=Europe/Berlin:20250426T160000
DTSTAMP:20260424T124143
CREATED:20250421T175124Z
LAST-MODIFIED:20250421T175124Z
UID:10000222-1745679600-1745683200@pk-proevent.de
SUMMARY:Wiedereingliederungskurs
DESCRIPTION:mit Patrick
URL:https://pk-proevent.de/veranstaltungen/wiedereingliederungskurs/
LOCATION:Protrain\, Poststraße 1\, Emmelshausen\, 56281
CATEGORIES:Kursplan
END:VEVENT
BEGIN:VEVENT
DTSTART;TZID=Europe/Berlin:20250424T190000
DTEND;TZID=Europe/Berlin:20250424T200000
DTSTAMP:20260424T124143
CREATED:20250421T174822Z
LAST-MODIFIED:20250421T174822Z
UID:10000221-1745521200-1745524800@pk-proevent.de
SUMMARY:EKZI
DESCRIPTION:mit Dominik
URL:https://pk-proevent.de/veranstaltungen/ekzi/
LOCATION:Protrain\, Poststraße 1\, Emmelshausen\, 56281
CATEGORIES:Kursplan
END:VEVENT
BEGIN:VEVENT
DTSTART;TZID=Europe/Berlin:20250424T180000
DTEND;TZID=Europe/Berlin:20250424T190000
DTSTAMP:20260424T124143
CREATED:20250421T174645Z
LAST-MODIFIED:20250421T174645Z
UID:10000220-1745517600-1745521200@pk-proevent.de
SUMMARY:100er Trittfrequenz konstante Dauermethode
DESCRIPTION:mit Dominik
URL:https://pk-proevent.de/veranstaltungen/100er-trittfrequenz-konstante-dauermethode/
LOCATION:Protrain\, Poststraße 1\, Emmelshausen\, 56281
CATEGORIES:Kursplan
END:VEVENT
BEGIN:VEVENT
DTSTART;TZID=Europe/Berlin:20250422T181500
DTEND;TZID=Europe/Berlin:20250422T194500
DTSTAMP:20260424T124143
CREATED:20250421T174410Z
LAST-MODIFIED:20250421T174410Z
UID:10000219-1745345700-1745351100@pk-proevent.de
SUMMARY:Fartlek
DESCRIPTION:mit Leon
URL:https://pk-proevent.de/veranstaltungen/fartlek-22/
LOCATION:Protrain\, Poststraße 1\, Emmelshausen\, 56281
CATEGORIES:Kursplan
END:VEVENT
BEGIN:VEVENT
DTSTART;TZID=Europe/Berlin:20250419T073000
DTEND;TZID=Europe/Berlin:20250419T093000
DTSTAMP:20260424T124143
CREATED:20250413T161734Z
LAST-MODIFIED:20250413T161734Z
UID:10000218-1745047800-1745055000@pk-proevent.de
SUMMARY:Großglockner mit Rouvy
DESCRIPTION:mit Patrick
URL:https://pk-proevent.de/veranstaltungen/grossglockner-mit-rouvy/
LOCATION:Protrain\, Poststraße 1\, Emmelshausen\, 56281
CATEGORIES:Kursplan
END:VEVENT
BEGIN:VEVENT
DTSTART;TZID=Europe/Berlin:20250418T065000
DTEND;TZID=Europe/Berlin:20250418T075000
DTSTAMP:20260424T124143
CREATED:20250413T161607Z
LAST-MODIFIED:20250414T050916Z
UID:10000217-1744959000-1744962600@pk-proevent.de
SUMMARY:Grundlage mit Metallica und Guns N'Roses
DESCRIPTION:mit Patrick
URL:https://pk-proevent.de/veranstaltungen/grundlage-mit-metallica-und-guns-nroses/
LOCATION:Protrain\, Poststraße 1\, Emmelshausen\, 56281
CATEGORIES:Kursplan
END:VEVENT
BEGIN:VEVENT
DTSTART;TZID=Europe/Berlin:20250417T200000
DTEND;TZID=Europe/Berlin:20250417T210000
DTSTAMP:20260424T124143
CREATED:20250413T161358Z
LAST-MODIFIED:20250413T161358Z
UID:10000216-1744920000-1744923600@pk-proevent.de
SUMMARY:Ride-X
DESCRIPTION:mit Patrick
URL:https://pk-proevent.de/veranstaltungen/ride-x/
LOCATION:Protrain\, Poststraße 1\, Emmelshausen\, 56281
CATEGORIES:Kursplan
END:VEVENT
BEGIN:VEVENT
DTSTART;TZID=Europe/Berlin:20250417T190000
DTEND;TZID=Europe/Berlin:20250417T200000
DTSTAMP:20260424T124143
CREATED:20250413T161235Z
LAST-MODIFIED:20250413T161235Z
UID:10000215-1744916400-1744920000@pk-proevent.de
SUMMARY:Variable Dauermethode
DESCRIPTION:mit Patrick
URL:https://pk-proevent.de/veranstaltungen/variable-dauermethode-2/
LOCATION:Protrain\, Poststraße 1\, Emmelshausen\, 56281
CATEGORIES:Kursplan
END:VEVENT
BEGIN:VEVENT
DTSTART;TZID=Europe/Berlin:20250417T180000
DTEND;TZID=Europe/Berlin:20250417T190000
DTSTAMP:20260424T124143
CREATED:20250413T161011Z
LAST-MODIFIED:20250413T161011Z
UID:10000214-1744912800-1744916400@pk-proevent.de
SUMMARY:90er Trittfrequenz - Grundlage
DESCRIPTION:mit Patrick
URL:https://pk-proevent.de/veranstaltungen/90er-trittfrequenz-grundlage/
LOCATION:Protrain\, Poststraße 1\, Emmelshausen\, 56281
CATEGORIES:Kursplan
END:VEVENT
BEGIN:VEVENT
DTSTART;TZID=Europe/Berlin:20250415T181500
DTEND;TZID=Europe/Berlin:20250415T194500
DTSTAMP:20260424T124143
CREATED:20250413T160727Z
LAST-MODIFIED:20250413T160727Z
UID:10000213-1744740900-1744746300@pk-proevent.de
SUMMARY:Intervalltraining
DESCRIPTION:mit Dominik
URL:https://pk-proevent.de/veranstaltungen/intervalltraining-4/
LOCATION:Protrain\, Poststraße 1\, Emmelshausen\, 56281
CATEGORIES:Kursplan
END:VEVENT
BEGIN:VEVENT
DTSTART;TZID=Europe/Berlin:20250405T070000
DTEND;TZID=Europe/Berlin:20250405T090000
DTSTAMP:20260424T124143
CREATED:20250329T200413Z
LAST-MODIFIED:20250329T200413Z
UID:10000212-1743836400-1743843600@pk-proevent.de
SUMMARY:Virtual Cycling Großglockner
DESCRIPTION:mit Patrick
URL:https://pk-proevent.de/veranstaltungen/virtual-cycling-grossglockner/
LOCATION:Protrain\, Poststraße 1\, Emmelshausen\, 56281
CATEGORIES:Kursplan
END:VEVENT
BEGIN:VEVENT
DTSTART;TZID=Europe/Berlin:20250404T055000
DTEND;TZID=Europe/Berlin:20250404T065000
DTSTAMP:20260424T124143
CREATED:20250329T200219Z
LAST-MODIFIED:20250329T200219Z
UID:10000211-1743745800-1743749400@pk-proevent.de
SUMMARY:Konstante Dauermethode - Nüchterntraining
DESCRIPTION:mit Patrick
URL:https://pk-proevent.de/veranstaltungen/konstante-dauermethode-nuechterntraining/
LOCATION:Protrain\, Poststraße 1\, Emmelshausen\, 56281
CATEGORIES:Kursplan
END:VEVENT
BEGIN:VEVENT
DTSTART;TZID=Europe/Berlin:20250403T200000
DTEND;TZID=Europe/Berlin:20250403T210000
DTSTAMP:20260424T124143
CREATED:20250329T200031Z
LAST-MODIFIED:20250329T200031Z
UID:10000210-1743710400-1743714000@pk-proevent.de
SUMMARY:Chill-Out
DESCRIPTION:mit Patrick
URL:https://pk-proevent.de/veranstaltungen/chill-out/
LOCATION:Protrain\, Poststraße 1\, Emmelshausen\, 56281
CATEGORIES:Kursplan
END:VEVENT
BEGIN:VEVENT
DTSTART;TZID=Europe/Berlin:20250403T190000
DTEND;TZID=Europe/Berlin:20250403T200000
DTSTAMP:20260424T124143
CREATED:20250329T195922Z
LAST-MODIFIED:20250329T195922Z
UID:10000209-1743706800-1743710400@pk-proevent.de
SUMMARY:Intervall in der Ebene
DESCRIPTION:mit Patrick
URL:https://pk-proevent.de/veranstaltungen/intervall-in-der-ebene-2/
LOCATION:Protrain\, Poststraße 1\, Emmelshausen\, 56281
CATEGORIES:Kursplan
END:VEVENT
BEGIN:VEVENT
DTSTART;TZID=Europe/Berlin:20250403T180000
DTEND;TZID=Europe/Berlin:20250403T190000
DTSTAMP:20260424T124143
CREATED:20250329T195810Z
LAST-MODIFIED:20250329T195810Z
UID:10000208-1743703200-1743706800@pk-proevent.de
SUMMARY:Intervall am Berg
DESCRIPTION:mit Patrick
URL:https://pk-proevent.de/veranstaltungen/intervall-am-berg-2/
LOCATION:Protrain\, Poststraße 1\, Emmelshausen\, 56281
CATEGORIES:Kursplan
END:VEVENT
BEGIN:VEVENT
DTSTART;TZID=Europe/Berlin:20250401T181500
DTEND;TZID=Europe/Berlin:20250401T194500
DTSTAMP:20260424T124143
CREATED:20250329T195600Z
LAST-MODIFIED:20250329T195600Z
UID:10000207-1743531300-1743536700@pk-proevent.de
SUMMARY:Konstante Dauermethode Blau oder Grün
DESCRIPTION:mit Leon
URL:https://pk-proevent.de/veranstaltungen/konstante-dauermethode-blau-oder-gruen/
LOCATION:Protrain\, Poststraße 1\, Emmelshausen\, 56281
CATEGORIES:Kursplan
END:VEVENT
BEGIN:VEVENT
DTSTART;TZID=Europe/Berlin:20250327T190000
DTEND;TZID=Europe/Berlin:20250327T200000
DTSTAMP:20260424T124143
CREATED:20250314T220102Z
LAST-MODIFIED:20250314T220102Z
UID:10000205-1743102000-1743105600@pk-proevent.de
SUMMARY:Intervall in der Ebene
DESCRIPTION:mit Dominik
URL:https://pk-proevent.de/veranstaltungen/intervall-in-der-ebene/
LOCATION:Protrain\, Poststraße 1\, Emmelshausen\, 56281
CATEGORIES:Kursplan
END:VEVENT
BEGIN:VEVENT
DTSTART;TZID=Europe/Berlin:20250327T180000
DTEND;TZID=Europe/Berlin:20250327T190000
DTSTAMP:20260424T124143
CREATED:20250314T215934Z
LAST-MODIFIED:20250314T215934Z
UID:10000204-1743098400-1743102000@pk-proevent.de
SUMMARY:Intervall am Berg
DESCRIPTION:mit Leon
URL:https://pk-proevent.de/veranstaltungen/intervall-am-berg/
LOCATION:Protrain\, Poststraße 1\, Emmelshausen\, 56281
CATEGORIES:Kursplan
END:VEVENT
BEGIN:VEVENT
DTSTART;TZID=Europe/Berlin:20250325T181500
DTEND;TZID=Europe/Berlin:20250325T194500
DTSTAMP:20260424T124143
CREATED:20250314T215757Z
LAST-MODIFIED:20250324T133929Z
UID:10000203-1742926500-1742931900@pk-proevent.de
SUMMARY:Fartlek
DESCRIPTION:
URL:https://pk-proevent.de/veranstaltungen/fartlek-21/
LOCATION:Protrain\, Poststraße 1\, Emmelshausen\, 56281
CATEGORIES:Kursplan
END:VEVENT
BEGIN:VEVENT
DTSTART;TZID=Europe/Berlin:20250320T190000
DTEND;TZID=Europe/Berlin:20250320T200000
DTSTAMP:20260424T124143
CREATED:20250309T150558Z
LAST-MODIFIED:20250314T145358Z
UID:10000201-1742497200-1742500800@pk-proevent.de
SUMMARY:Fatburner
DESCRIPTION:
URL:https://pk-proevent.de/veranstaltungen/variable-dauermethode/
LOCATION:Protrain\, Poststraße 1\, Emmelshausen\, 56281
CATEGORIES:Kursplan
END:VEVENT
BEGIN:VEVENT
DTSTART;TZID=Europe/Berlin:20250320T180000
DTEND;TZID=Europe/Berlin:20250320T190000
DTSTAMP:20260424T124143
CREATED:20250309T150435Z
LAST-MODIFIED:20250314T145318Z
UID:10000200-1742493600-1742497200@pk-proevent.de
SUMMARY:Tabatatraining
DESCRIPTION:
URL:https://pk-proevent.de/veranstaltungen/intervalle-am-berg-2/
LOCATION:Protrain\, Poststraße 1\, Emmelshausen\, 56281
CATEGORIES:Kursplan
END:VEVENT
BEGIN:VEVENT
DTSTART;TZID=Europe/Berlin:20250319T055000
DTEND;TZID=Europe/Berlin:20250319T065000
DTSTAMP:20260424T124143
CREATED:20250314T220437Z
LAST-MODIFIED:20250314T220437Z
UID:10000206-1742363400-1742367000@pk-proevent.de
SUMMARY:Nüchterntraining
DESCRIPTION:mit Patrick
URL:https://pk-proevent.de/veranstaltungen/nuechterntraining-32/
LOCATION:Protrain\, Poststraße 1\, Emmelshausen\, 56281
CATEGORIES:Kursplan
END:VEVENT
BEGIN:VEVENT
DTSTART;TZID=Europe/Berlin:20250318T181500
DTEND;TZID=Europe/Berlin:20250318T194500
DTSTAMP:20260424T124143
CREATED:20250309T150318Z
LAST-MODIFIED:20250314T145216Z
UID:10000199-1742321700-1742327100@pk-proevent.de
SUMMARY:Techniktraining
DESCRIPTION:
URL:https://pk-proevent.de/veranstaltungen/fartlek-20/
LOCATION:Protrain\, Poststraße 1\, Emmelshausen\, 56281
CATEGORIES:Kursplan
END:VEVENT
BEGIN:VEVENT
DTSTART;TZID=Europe/Berlin:20250316T100000
DTEND;TZID=Europe/Berlin:20250316T153000
DTSTAMP:20260424T124143
CREATED:20250309T150105Z
LAST-MODIFIED:20250309T150105Z
UID:10000198-1742119200-1742139000@pk-proevent.de
SUMMARY:Großglockner mit ca. 2700 Höhenmetern
DESCRIPTION:mit Patrick
URL:https://pk-proevent.de/veranstaltungen/grossglockner-mit-ca-2700-hoehenmetern/
LOCATION:Protrain\, Poststraße 1\, Emmelshausen\, 56281
CATEGORIES:Kursplan
END:VEVENT
BEGIN:VEVENT
DTSTART;TZID=Europe/Berlin:20250314T055000
DTEND;TZID=Europe/Berlin:20250314T065000
DTSTAMP:20260424T124143
CREATED:20250314T145451Z
LAST-MODIFIED:20250314T145451Z
UID:10000202-1741931400-1741935000@pk-proevent.de
SUMMARY:Nüchterntraining
DESCRIPTION:
URL:https://pk-proevent.de/veranstaltungen/nuechterntraining-31/
LOCATION:Protrain\, Poststraße 1\, Emmelshausen\, 56281
CATEGORIES:Kursplan
END:VEVENT
BEGIN:VEVENT
DTSTART;TZID=Europe/Berlin:20250314T055000
DTEND;TZID=Europe/Berlin:20250314T065000
DTSTAMP:20260424T124143
CREATED:20250309T145915Z
LAST-MODIFIED:20250309T145915Z
UID:10000197-1741931400-1741935000@pk-proevent.de
SUMMARY:Nüchterntraining
DESCRIPTION:mit Patrick
URL:https://pk-proevent.de/veranstaltungen/nuechterntraining-30/
LOCATION:Protrain\, Poststraße 1\, Emmelshausen\, 56281
CATEGORIES:Kursplan
END:VEVENT
BEGIN:VEVENT
DTSTART;TZID=Europe/Berlin:20250307T180000
DTEND;TZID=Europe/Berlin:20250307T190000
DTSTAMP:20260424T124143
CREATED:20250210T090527Z
LAST-MODIFIED:20250210T090527Z
UID:10000196-1741370400-1741374000@pk-proevent.de
SUMMARY:Intervalltraining am Berg
DESCRIPTION:mit Leon
URL:https://pk-proevent.de/veranstaltungen/intervalltraining-am-berg-2/
LOCATION:Protrain\, Poststraße 1\, Emmelshausen\, 56281
END:VEVENT
BEGIN:VEVENT
DTSTART;TZID=Europe/Berlin:20250307T055000
DTEND;TZID=Europe/Berlin:20250307T065000
DTSTAMP:20260424T124143
CREATED:20250210T090436Z
LAST-MODIFIED:20250210T090436Z
UID:10000195-1741326600-1741330200@pk-proevent.de
SUMMARY:Die dritte Nüchterneinheit die Woche
DESCRIPTION:mit Patrick
URL:https://pk-proevent.de/veranstaltungen/die-dritte-nuechterneinheit-die-woche/
LOCATION:Protrain\, Poststraße 1\, Emmelshausen\, 56281
CATEGORIES:Kursplan
END:VEVENT
BEGIN:VEVENT
DTSTART;TZID=Europe/Berlin:20250306T190000
DTEND;TZID=Europe/Berlin:20250306T200000
DTSTAMP:20260424T124143
CREATED:20250210T090327Z
LAST-MODIFIED:20250210T091515Z
UID:10000194-1741287600-1741291200@pk-proevent.de
SUMMARY:Enjoy the silence
DESCRIPTION:mit Patrick
URL:https://pk-proevent.de/veranstaltungen/enjoy-the-silence/
LOCATION:Protrain\, Poststraße 1\, Emmelshausen\, 56281
CATEGORIES:Kursplan
END:VEVENT
BEGIN:VEVENT
DTSTART;TZID=Europe/Berlin:20250306T180000
DTEND;TZID=Europe/Berlin:20250306T190000
DTSTAMP:20260424T124143
CREATED:20250210T090227Z
LAST-MODIFIED:20250210T091611Z
UID:10000193-1741284000-1741287600@pk-proevent.de
SUMMARY:Intervalltraining im mittleren Tempo
DESCRIPTION:mit Patrick
URL:https://pk-proevent.de/veranstaltungen/intervalltraining-im-mittleren-tempo/
LOCATION:Protrain\, Poststraße 1\, Emmelshausen\, 56281
CATEGORIES:Kursplan
END:VEVENT
END:VCALENDAR