BEGIN:VCALENDAR
VERSION:2.0
PRODID:-//ProEvent - ECPv6.15.20//NONSGML v1.0//EN
CALSCALE:GREGORIAN
METHOD:PUBLISH
X-ORIGINAL-URL:https://pk-proevent.de
X-WR-CALDESC:Veranstaltungen für ProEvent
REFRESH-INTERVAL;VALUE=DURATION:PT1H
X-Robots-Tag:noindex
X-PUBLISHED-TTL:PT1H
BEGIN:VTIMEZONE
TZID:Europe/Berlin
BEGIN:DAYLIGHT
TZOFFSETFROM:+0100
TZOFFSETTO:+0200
TZNAME:CEST
DTSTART:20230326T010000
END:DAYLIGHT
BEGIN:STANDARD
TZOFFSETFROM:+0200
TZOFFSETTO:+0100
TZNAME:CET
DTSTART:20231029T010000
END:STANDARD
BEGIN:DAYLIGHT
TZOFFSETFROM:+0100
TZOFFSETTO:+0200
TZNAME:CEST
DTSTART:20240331T010000
END:DAYLIGHT
BEGIN:STANDARD
TZOFFSETFROM:+0200
TZOFFSETTO:+0100
TZNAME:CET
DTSTART:20241027T010000
END:STANDARD
BEGIN:DAYLIGHT
TZOFFSETFROM:+0100
TZOFFSETTO:+0200
TZNAME:CEST
DTSTART:20250330T010000
END:DAYLIGHT
BEGIN:STANDARD
TZOFFSETFROM:+0200
TZOFFSETTO:+0100
TZNAME:CET
DTSTART:20251026T010000
END:STANDARD
BEGIN:DAYLIGHT
TZOFFSETFROM:+0100
TZOFFSETTO:+0200
TZNAME:CEST
DTSTART:20260329T010000
END:DAYLIGHT
BEGIN:STANDARD
TZOFFSETFROM:+0200
TZOFFSETTO:+0100
TZNAME:CET
DTSTART:20261025T010000
END:STANDARD
END:VTIMEZONE
BEGIN:VEVENT
DTSTART;TZID=Europe/Berlin:20250207T055000
DTEND;TZID=Europe/Berlin:20250207T065000
DTSTAMP:20260424T194120
CREATED:20250131T193135Z
LAST-MODIFIED:20250131T193135Z
UID:10000174-1738907400-1738911000@pk-proevent.de
SUMMARY:Nüchterntraining
DESCRIPTION:mit Patrick
URL:https://pk-proevent.de/veranstaltungen/nuechterntraining-27/
LOCATION:Protrain\, Poststraße 1\, Emmelshausen\, 56281
CATEGORIES:Kursplan
END:VEVENT
BEGIN:VEVENT
DTSTART;TZID=Europe/Berlin:20250206T190000
DTEND;TZID=Europe/Berlin:20250206T200000
DTSTAMP:20260424T194120
CREATED:20250131T192227Z
LAST-MODIFIED:20250131T192542Z
UID:10000173-1738868400-1738872000@pk-proevent.de
SUMMARY:Konstante Dauermethode
DESCRIPTION:mit Dominik
URL:https://pk-proevent.de/veranstaltungen/konstante-dauermethode/
LOCATION:Protrain\, Poststraße 1\, Emmelshausen\, 56281
CATEGORIES:Kursplan
END:VEVENT
BEGIN:VEVENT
DTSTART;TZID=Europe/Berlin:20250206T180000
DTEND;TZID=Europe/Berlin:20250206T190000
DTSTAMP:20260424T194120
CREATED:20250131T191943Z
LAST-MODIFIED:20250131T192713Z
UID:10000172-1738864800-1738868400@pk-proevent.de
SUMMARY:15 extensive Kurzzeitintervalle
DESCRIPTION:mit Leon
URL:https://pk-proevent.de/veranstaltungen/15-extensive-kurzzeitintervalle/
LOCATION:Protrain\, Poststraße 1\, Emmelshausen\, 56281
CATEGORIES:Kursplan
END:VEVENT
BEGIN:VEVENT
DTSTART;TZID=Europe/Berlin:20250204T181500
DTEND;TZID=Europe/Berlin:20250204T194500
DTSTAMP:20260424T194120
CREATED:20250131T191559Z
LAST-MODIFIED:20250131T192808Z
UID:10000171-1738692900-1738698300@pk-proevent.de
SUMMARY:Trittfrequenztraining
DESCRIPTION:mit Diana
URL:https://pk-proevent.de/veranstaltungen/trittfrequenztraining/
LOCATION:Protrain\, Poststraße 1\, Emmelshausen\, 56281
CATEGORIES:Kursplan
END:VEVENT
BEGIN:VEVENT
DTSTART;TZID=Europe/Berlin:20250131T180000
DTEND;TZID=Europe/Berlin:20250131T190000
DTSTAMP:20260424T194120
CREATED:20250127T063849Z
LAST-MODIFIED:20250127T064813Z
UID:10000170-1738346400-1738350000@pk-proevent.de
SUMMARY:Fartlek - mit Dominik Maier
DESCRIPTION:
URL:https://pk-proevent.de/veranstaltungen/fartlek-19/
LOCATION:Protrain\, Poststraße 1\, Emmelshausen\, 56281
CATEGORIES:Kursplan
END:VEVENT
BEGIN:VEVENT
DTSTART;TZID=Europe/Berlin:20250131T055000
DTEND;TZID=Europe/Berlin:20250131T065000
DTSTAMP:20260424T194120
CREATED:20250127T063650Z
LAST-MODIFIED:20250127T064828Z
UID:10000169-1738302600-1738306200@pk-proevent.de
SUMMARY:Nüchterntraining - mit Patrick Klein
DESCRIPTION:
URL:https://pk-proevent.de/veranstaltungen/nuechterntraining-26/
LOCATION:Protrain\, Poststraße 1\, Emmelshausen\, 56281
CATEGORIES:Kursplan
END:VEVENT
BEGIN:VEVENT
DTSTART;TZID=Europe/Berlin:20250130T180000
DTEND;TZID=Europe/Berlin:20250130T190000
DTSTAMP:20260424T194120
CREATED:20250127T063414Z
LAST-MODIFIED:20250127T064823Z
UID:10000168-1738260000-1738263600@pk-proevent.de
SUMMARY:Fartlek - mit Leon Linke
DESCRIPTION:
URL:https://pk-proevent.de/veranstaltungen/fartlek-18/
LOCATION:Protrain\, Poststraße 1\, Emmelshausen\, 56281
CATEGORIES:Kursplan
END:VEVENT
BEGIN:VEVENT
DTSTART;TZID=Europe/Berlin:20250128T181500
DTEND;TZID=Europe/Berlin:20250128T194500
DTSTAMP:20260424T194120
CREATED:20250127T063223Z
LAST-MODIFIED:20250127T064818Z
UID:10000167-1738088100-1738093500@pk-proevent.de
SUMMARY:Intervalltraining - mit Patrick Klein
DESCRIPTION:
URL:https://pk-proevent.de/veranstaltungen/90-minuten-intervalltraining/
LOCATION:Protrain\, Poststraße 1\, Emmelshausen\, 56281
CATEGORIES:Kursplan
END:VEVENT
BEGIN:VEVENT
DTSTART;TZID=Europe/Berlin:20250128T053000
DTEND;TZID=Europe/Berlin:20250128T063000
DTSTAMP:20260424T194120
CREATED:20250127T062423Z
LAST-MODIFIED:20250127T064813Z
UID:10000166-1738042200-1738045800@pk-proevent.de
SUMMARY:Nüchterntraining - mit Patrick Klein
DESCRIPTION:
URL:https://pk-proevent.de/veranstaltungen/nuechterntraining-25/
LOCATION:Protrain\, Poststraße 1\, Emmelshausen\, 56281
CATEGORIES:Kursplan
END:VEVENT
BEGIN:VEVENT
DTSTART;TZID=Europe/Berlin:20250112T110000
DTEND;TZID=Europe/Berlin:20250112T150000
DTSTAMP:20260424T194120
CREATED:20241209T140224Z
LAST-MODIFIED:20241209T140224Z
UID:10000165-1736679600-1736694000@pk-proevent.de
SUMMARY:50 Shades of Indoorcycling - Part 14
DESCRIPTION:
URL:https://pk-proevent.de/veranstaltungen/50-shades-of-indoorcycling-part-14/
LOCATION:Protrain\, Poststraße 1\, Emmelshausen\, 56281
CATEGORIES:Kursplan
END:VEVENT
BEGIN:VEVENT
DTSTART;TZID=Europe/Berlin:20250111T100000
DTEND;TZID=Europe/Berlin:20250111T150000
DTSTAMP:20260424T194120
CREATED:20241209T140147Z
LAST-MODIFIED:20241209T140147Z
UID:10000164-1736589600-1736607600@pk-proevent.de
SUMMARY:50 Shades of Indoorcycling - Part 13
DESCRIPTION:
URL:https://pk-proevent.de/veranstaltungen/50-shades-of-indoorcycling-part-13/
LOCATION:Protrain\, Poststraße 1\, Emmelshausen\, 56281
CATEGORIES:Kursplan
END:VEVENT
BEGIN:VEVENT
DTSTART;TZID=Europe/Berlin:20250110T180000
DTEND;TZID=Europe/Berlin:20250110T210000
DTSTAMP:20260424T194120
CREATED:20241209T140117Z
LAST-MODIFIED:20241209T140117Z
UID:10000163-1736532000-1736542800@pk-proevent.de
SUMMARY:50 Shades of Indoorcycling - Part 12
DESCRIPTION:
URL:https://pk-proevent.de/veranstaltungen/50-shades-of-indoorcycling-part-12/
LOCATION:Protrain\, Poststraße 1\, Emmelshausen\, 56281
CATEGORIES:Kursplan
END:VEVENT
BEGIN:VEVENT
DTSTART;TZID=Europe/Berlin:20250109T180000
DTEND;TZID=Europe/Berlin:20250109T210000
DTSTAMP:20260424T194120
CREATED:20241209T140042Z
LAST-MODIFIED:20241209T140042Z
UID:10000162-1736445600-1736456400@pk-proevent.de
SUMMARY:50 Shades of Indoorcycling - Part 11
DESCRIPTION:
URL:https://pk-proevent.de/veranstaltungen/50-shades-of-indoorcycling-part-11/
LOCATION:Protrain\, Poststraße 1\, Emmelshausen\, 56281
CATEGORIES:Kursplan
END:VEVENT
BEGIN:VEVENT
DTSTART;TZID=Europe/Berlin:20250108T180000
DTEND;TZID=Europe/Berlin:20250108T210000
DTSTAMP:20260424T194120
CREATED:20241209T140007Z
LAST-MODIFIED:20241209T140007Z
UID:10000161-1736359200-1736370000@pk-proevent.de
SUMMARY:50 Shades of Indoorcycling - Part 10
DESCRIPTION:
URL:https://pk-proevent.de/veranstaltungen/50-shades-of-indoorcycling-part-10/
LOCATION:Protrain\, Poststraße 1\, Emmelshausen\, 56281
CATEGORIES:Kursplan
END:VEVENT
BEGIN:VEVENT
DTSTART;TZID=Europe/Berlin:20250107T180000
DTEND;TZID=Europe/Berlin:20250107T210000
DTSTAMP:20260424T194120
CREATED:20241209T135935Z
LAST-MODIFIED:20241209T135935Z
UID:10000160-1736272800-1736283600@pk-proevent.de
SUMMARY:50 Shades of Indoorcycling - Part 9
DESCRIPTION:
URL:https://pk-proevent.de/veranstaltungen/50-shades-of-indoorcycling-part-9/
LOCATION:Protrain\, Poststraße 1\, Emmelshausen\, 56281
CATEGORIES:Kursplan
END:VEVENT
BEGIN:VEVENT
DTSTART;TZID=Europe/Berlin:20250106T180000
DTEND;TZID=Europe/Berlin:20250106T210000
DTSTAMP:20260424T194120
CREATED:20241209T135755Z
LAST-MODIFIED:20241209T135755Z
UID:10000159-1736186400-1736197200@pk-proevent.de
SUMMARY:50 Shades of Indoorcycling - Part 8
DESCRIPTION:
URL:https://pk-proevent.de/veranstaltungen/50-shades-of-indoorcycling-part-8/
LOCATION:Protrain\, Poststraße 1\, Emmelshausen\, 56281
CATEGORIES:Kursplan
END:VEVENT
BEGIN:VEVENT
DTSTART;TZID=Europe/Berlin:20250105T100000
DTEND;TZID=Europe/Berlin:20250105T150000
DTSTAMP:20260424T194120
CREATED:20241209T135653Z
LAST-MODIFIED:20241209T135653Z
UID:10000158-1736071200-1736089200@pk-proevent.de
SUMMARY:50 Shades of Indoorcycling - Part 7
DESCRIPTION:
URL:https://pk-proevent.de/veranstaltungen/50-shades-of-indoorcycling-part-7/
LOCATION:Protrain\, Poststraße 1\, Emmelshausen\, 56281
CATEGORIES:Kursplan
END:VEVENT
BEGIN:VEVENT
DTSTART;TZID=Europe/Berlin:20250101T140000
DTEND;TZID=Europe/Berlin:20250101T170000
DTSTAMP:20260424T194120
CREATED:20241209T135608Z
LAST-MODIFIED:20241209T135608Z
UID:10000157-1735740000-1735750800@pk-proevent.de
SUMMARY:50 Shades of Indoorcycling - Part 6
DESCRIPTION:
URL:https://pk-proevent.de/veranstaltungen/50-shades-of-indoorcycling-part-6/
LOCATION:Protrain\, Poststraße 1\, Emmelshausen\, 56281
CATEGORIES:Kursplan
END:VEVENT
BEGIN:VEVENT
DTSTART;TZID=Europe/Berlin:20241231T090000
DTEND;TZID=Europe/Berlin:20241231T120000
DTSTAMP:20260424T194120
CREATED:20241209T135527Z
LAST-MODIFIED:20241209T135527Z
UID:10000156-1735635600-1735646400@pk-proevent.de
SUMMARY:50 Shades of Indoorcycling - Part 5
DESCRIPTION:
URL:https://pk-proevent.de/veranstaltungen/50-shades-of-indoorcycling-part-5/
LOCATION:Protrain\, Poststraße 1\, Emmelshausen\, 56281
CATEGORIES:Kursplan
END:VEVENT
BEGIN:VEVENT
DTSTART;TZID=Europe/Berlin:20241230T180000
DTEND;TZID=Europe/Berlin:20241230T210000
DTSTAMP:20260424T194120
CREATED:20241209T135431Z
LAST-MODIFIED:20241209T135431Z
UID:10000155-1735581600-1735592400@pk-proevent.de
SUMMARY:50 Shades of Indoorcycling - Part 4
DESCRIPTION:
URL:https://pk-proevent.de/veranstaltungen/50-shades-of-indoorcycling-part-4/
LOCATION:Protrain\, Poststraße 1\, Emmelshausen\, 56281
CATEGORIES:Kursplan
END:VEVENT
BEGIN:VEVENT
DTSTART;TZID=Europe/Berlin:20241229T110000
DTEND;TZID=Europe/Berlin:20241229T150000
DTSTAMP:20260424T194120
CREATED:20241209T135352Z
LAST-MODIFIED:20241209T135352Z
UID:10000154-1735470000-1735484400@pk-proevent.de
SUMMARY:50 Shades of Indoorcycling - Part 3
DESCRIPTION:
URL:https://pk-proevent.de/veranstaltungen/50-shades-of-indoorcycling-part-3/
LOCATION:Protrain\, Poststraße 1\, Emmelshausen\, 56281
CATEGORIES:Kursplan
END:VEVENT
BEGIN:VEVENT
DTSTART;TZID=Europe/Berlin:20241228T100000
DTEND;TZID=Europe/Berlin:20241228T150000
DTSTAMP:20260424T194120
CREATED:20241209T135319Z
LAST-MODIFIED:20241209T135319Z
UID:10000153-1735380000-1735398000@pk-proevent.de
SUMMARY:50 Shades of Indoorcycling - Part 2
DESCRIPTION:
URL:https://pk-proevent.de/veranstaltungen/50-shades-of-indoorcycling-part-2/
LOCATION:Protrain\, Poststraße 1\, Emmelshausen\, 56281
CATEGORIES:Kursplan
END:VEVENT
BEGIN:VEVENT
DTSTART;TZID=Europe/Berlin:20241227T180000
DTEND;TZID=Europe/Berlin:20241227T210000
DTSTAMP:20260424T194120
CREATED:20241209T135234Z
LAST-MODIFIED:20241209T135234Z
UID:10000152-1735322400-1735333200@pk-proevent.de
SUMMARY:50 Shades of Indoorcycling - Part 1
DESCRIPTION:
URL:https://pk-proevent.de/veranstaltungen/50-shades-of-indoorcycling-part-1/
LOCATION:Protrain\, Poststraße 1\, Emmelshausen\, 56281
CATEGORIES:Kursplan
END:VEVENT
BEGIN:VEVENT
DTSTART;TZID=Europe/Berlin:20241212T190000
DTEND;TZID=Europe/Berlin:20241212T200000
DTSTAMP:20260424T194120
CREATED:20241208T145058Z
LAST-MODIFIED:20241208T145058Z
UID:10000151-1734030000-1734033600@pk-proevent.de
SUMMARY:Grundlage
DESCRIPTION:
URL:https://pk-proevent.de/veranstaltungen/grundlage-11/
LOCATION:Protrain\, Poststraße 1\, Emmelshausen\, 56281
CATEGORIES:Kursplan
END:VEVENT
BEGIN:VEVENT
DTSTART;TZID=Europe/Berlin:20241212T180000
DTEND;TZID=Europe/Berlin:20241212T190000
DTSTAMP:20260424T194120
CREATED:20241208T145021Z
LAST-MODIFIED:20241208T145021Z
UID:10000150-1734026400-1734030000@pk-proevent.de
SUMMARY:Grundlage
DESCRIPTION:
URL:https://pk-proevent.de/veranstaltungen/grundlage-10/
LOCATION:Protrain\, Poststraße 1\, Emmelshausen\, 56281
CATEGORIES:Kursplan
END:VEVENT
BEGIN:VEVENT
DTSTART;TZID=Europe/Berlin:20241210T181500
DTEND;TZID=Europe/Berlin:20241210T194500
DTSTAMP:20260424T194120
CREATED:20241208T144925Z
LAST-MODIFIED:20241208T144925Z
UID:10000149-1733854500-1733859900@pk-proevent.de
SUMMARY:Grundlage
DESCRIPTION:
URL:https://pk-proevent.de/veranstaltungen/grundlage-9/
LOCATION:Protrain\, Poststraße 1\, Emmelshausen\, 56281
CATEGORIES:Kursplan
END:VEVENT
BEGIN:VEVENT
DTSTART;TZID=Europe/Berlin:20241121T200000
DTEND;TZID=Europe/Berlin:20241121T210000
DTSTAMP:20260424T194120
CREATED:20241115T093941Z
LAST-MODIFIED:20241115T093941Z
UID:10000148-1732219200-1732222800@pk-proevent.de
SUMMARY:Grundlage
DESCRIPTION:
URL:https://pk-proevent.de/veranstaltungen/grundlage-8/
LOCATION:Protrain\, Poststraße 1\, Emmelshausen\, 56281
CATEGORIES:Kursplan
END:VEVENT
BEGIN:VEVENT
DTSTART;TZID=Europe/Berlin:20241121T190000
DTEND;TZID=Europe/Berlin:20241121T200000
DTSTAMP:20260424T194120
CREATED:20241115T093813Z
LAST-MODIFIED:20241115T093813Z
UID:10000147-1732215600-1732219200@pk-proevent.de
SUMMARY:Grundlage
DESCRIPTION:
URL:https://pk-proevent.de/veranstaltungen/grundlage-7/
LOCATION:Protrain\, Poststraße 1\, Emmelshausen\, 56281
CATEGORIES:Kursplan
END:VEVENT
BEGIN:VEVENT
DTSTART;TZID=Europe/Berlin:20241121T180000
DTEND;TZID=Europe/Berlin:20241121T190000
DTSTAMP:20260424T194120
CREATED:20241115T093719Z
LAST-MODIFIED:20241115T093719Z
UID:10000146-1732212000-1732215600@pk-proevent.de
SUMMARY:Grundlage
DESCRIPTION:
URL:https://pk-proevent.de/veranstaltungen/grundlage-6/
LOCATION:Protrain\, Poststraße 1\, Emmelshausen\, 56281
CATEGORIES:Kursplan
END:VEVENT
BEGIN:VEVENT
DTSTART;TZID=Europe/Berlin:20241116T083000
DTEND;TZID=Europe/Berlin:20241116T113000
DTSTAMP:20260424T194120
CREATED:20241111T210005Z
LAST-MODIFIED:20241111T210005Z
UID:10000145-1731745800-1731756600@pk-proevent.de
SUMMARY:Grundlage
DESCRIPTION:
URL:https://pk-proevent.de/veranstaltungen/grundlage-5/
LOCATION:Protrain\, Poststraße 1\, Emmelshausen\, 56281
CATEGORIES:Kursplan
END:VEVENT
END:VCALENDAR