BEGIN:VCALENDAR
VERSION:2.0
PRODID:-//ProEvent - ECPv6.15.17.1//NONSGML v1.0//EN
CALSCALE:GREGORIAN
METHOD:PUBLISH
X-ORIGINAL-URL:https://pk-proevent.de
X-WR-CALDESC:Veranstaltungen für ProEvent
REFRESH-INTERVAL;VALUE=DURATION:PT1H
X-Robots-Tag:noindex
X-PUBLISHED-TTL:PT1H
BEGIN:VTIMEZONE
TZID:Europe/Berlin
BEGIN:DAYLIGHT
TZOFFSETFROM:+0100
TZOFFSETTO:+0200
TZNAME:CEST
DTSTART:20250330T010000
END:DAYLIGHT
BEGIN:STANDARD
TZOFFSETFROM:+0200
TZOFFSETTO:+0100
TZNAME:CET
DTSTART:20251026T010000
END:STANDARD
BEGIN:DAYLIGHT
TZOFFSETFROM:+0100
TZOFFSETTO:+0200
TZNAME:CEST
DTSTART:20260329T010000
END:DAYLIGHT
BEGIN:STANDARD
TZOFFSETFROM:+0200
TZOFFSETTO:+0100
TZNAME:CET
DTSTART:20261025T010000
END:STANDARD
BEGIN:DAYLIGHT
TZOFFSETFROM:+0100
TZOFFSETTO:+0200
TZNAME:CEST
DTSTART:20270328T010000
END:DAYLIGHT
BEGIN:STANDARD
TZOFFSETFROM:+0200
TZOFFSETTO:+0100
TZNAME:CET
DTSTART:20271031T010000
END:STANDARD
END:VTIMEZONE
BEGIN:VEVENT
DTSTART;TZID=Europe/Berlin:20260317T181500
DTEND;TZID=Europe/Berlin:20260317T194500
DTSTAMP:20260419T232014
CREATED:20260304T171806Z
LAST-MODIFIED:20260304T171806Z
UID:10000466-1773771300-1773776700@pk-proevent.de
SUMMARY:It is Party Time 90 Minuten „The Best of“
DESCRIPTION:mit Patrick
URL:https://pk-proevent.de/veranstaltungen/it-is-party-time-90-minuten-the-best-of/
LOCATION:Protrain\, Poststraße 1\, Emmelshausen\, 56281
CATEGORIES:Kursplan
END:VEVENT
BEGIN:VEVENT
DTSTART;TZID=Europe/Berlin:20260316T055000
DTEND;TZID=Europe/Berlin:20260316T065000
DTSTAMP:20260419T232014
CREATED:20260304T170732Z
LAST-MODIFIED:20260304T170732Z
UID:10000458-1773640200-1773643800@pk-proevent.de
SUMMARY:Nüchterntraining
DESCRIPTION:mit Patrick
URL:https://pk-proevent.de/veranstaltungen/nuechterntraining-109/
LOCATION:Protrain\, Poststraße 1\, Emmelshausen\, 56281
CATEGORIES:Kursplan
END:VEVENT
BEGIN:VEVENT
DTSTART;TZID=Europe/Berlin:20260310T181500
DTEND;TZID=Europe/Berlin:20260310T194500
DTSTAMP:20260419T232014
CREATED:20260304T171612Z
LAST-MODIFIED:20260304T171612Z
UID:10000465-1773166500-1773171900@pk-proevent.de
SUMMARY:Intervalle am Berg
DESCRIPTION:mit Dominik
URL:https://pk-proevent.de/veranstaltungen/intervalle-am-berg-6/
LOCATION:Protrain\, Poststraße 1\, Emmelshausen\, 56281
CATEGORIES:Kursplan
END:VEVENT
BEGIN:VEVENT
DTSTART;TZID=Europe/Berlin:20260309T055000
DTEND;TZID=Europe/Berlin:20260309T065000
DTSTAMP:20260419T232014
CREATED:20260304T170610Z
LAST-MODIFIED:20260304T170610Z
UID:10000457-1773035400-1773039000@pk-proevent.de
SUMMARY:Nüchterntraining
DESCRIPTION:mit Patrick
URL:https://pk-proevent.de/veranstaltungen/nuechterntraining-108/
LOCATION:Protrain\, Poststraße 1\, Emmelshausen\, 56281
CATEGORIES:Kursplan
END:VEVENT
BEGIN:VEVENT
DTSTART;TZID=Europe/Berlin:20260307T080000
DTEND;TZID=Europe/Berlin:20260307T090000
DTSTAMP:20260419T232014
CREATED:20260226T202336Z
LAST-MODIFIED:20260226T202336Z
UID:10000456-1772870400-1772874000@pk-proevent.de
SUMMARY:Nüchterntraining
DESCRIPTION:mit Patrick
URL:https://pk-proevent.de/veranstaltungen/nuechterntraining-107/
LOCATION:Protrain\, Poststraße 1\, Emmelshausen\, 56281
CATEGORIES:Kursplan
END:VEVENT
BEGIN:VEVENT
DTSTART;TZID=Europe/Berlin:20260304T055000
DTEND;TZID=Europe/Berlin:20260304T065000
DTSTAMP:20260419T232014
CREATED:20260226T202212Z
LAST-MODIFIED:20260226T202212Z
UID:10000455-1772603400-1772607000@pk-proevent.de
SUMMARY:Nüchterntraining
DESCRIPTION:
URL:https://pk-proevent.de/veranstaltungen/nuechterntraining-106/
LOCATION:Protrain\, Poststraße 1\, Emmelshausen\, 56281
CATEGORIES:Kursplan
END:VEVENT
BEGIN:VEVENT
DTSTART;TZID=Europe/Berlin:20260303T181500
DTEND;TZID=Europe/Berlin:20260303T194500
DTSTAMP:20260419T232014
CREATED:20260226T202043Z
LAST-MODIFIED:20260226T202043Z
UID:10000454-1772561700-1772567100@pk-proevent.de
SUMMARY:PK-Reset
DESCRIPTION:
URL:https://pk-proevent.de/veranstaltungen/pk-reset/
LOCATION:Protrain\, Poststraße 1\, Emmelshausen\, 56281
CATEGORIES:Kursplan
END:VEVENT
BEGIN:VEVENT
DTSTART;TZID=Europe/Berlin:20260302T055000
DTEND;TZID=Europe/Berlin:20260302T065000
DTSTAMP:20260419T232014
CREATED:20260226T201917Z
LAST-MODIFIED:20260226T201917Z
UID:10000453-1772430600-1772434200@pk-proevent.de
SUMMARY:Nüchterntraining
DESCRIPTION:
URL:https://pk-proevent.de/veranstaltungen/nuechterntraining-101/
LOCATION:Protrain\, Poststraße 1\, Emmelshausen\, 56281
CATEGORIES:Kursplan
END:VEVENT
BEGIN:VEVENT
DTSTART;TZID=Europe/Berlin:20260226T055000
DTEND;TZID=Europe/Berlin:20260226T065000
DTSTAMP:20260419T232014
CREATED:20260212T165404Z
LAST-MODIFIED:20260212T165404Z
UID:10000452-1772085000-1772088600@pk-proevent.de
SUMMARY:Nüchterntraining
DESCRIPTION:mit Patrick
URL:https://pk-proevent.de/veranstaltungen/nuechterntraining-105/
LOCATION:Protrain\, Poststraße 1\, Emmelshausen\, 56281
CATEGORIES:Kursplan
END:VEVENT
BEGIN:VEVENT
DTSTART;TZID=Europe/Berlin:20260225T055000
DTEND;TZID=Europe/Berlin:20260225T065000
DTSTAMP:20260419T232014
CREATED:20260212T163740Z
LAST-MODIFIED:20260212T163740Z
UID:10000450-1771998600-1772002200@pk-proevent.de
SUMMARY:Nüchterntraining
DESCRIPTION:mit Patrick
URL:https://pk-proevent.de/veranstaltungen/nuechterntraining-103/
LOCATION:Protrain\, Poststraße 1\, Emmelshausen\, 56281
CATEGORIES:Kursplan
END:VEVENT
BEGIN:VEVENT
DTSTART;TZID=Europe/Berlin:20260224T181500
DTEND;TZID=Europe/Berlin:20260224T194500
DTSTAMP:20260419T232014
CREATED:20260212T163243Z
LAST-MODIFIED:20260212T163243Z
UID:10000449-1771956900-1771962300@pk-proevent.de
SUMMARY:Nature One Volume II
DESCRIPTION:mit Dominik
URL:https://pk-proevent.de/veranstaltungen/nature-one-volume-ii/
LOCATION:Protrain\, Poststraße 1\, Emmelshausen\, 56281
CATEGORIES:Kursplan
END:VEVENT
BEGIN:VEVENT
DTSTART;TZID=Europe/Berlin:20260224T055000
DTEND;TZID=Europe/Berlin:20260224T065000
DTSTAMP:20260419T232014
CREATED:20260212T165237Z
LAST-MODIFIED:20260212T165237Z
UID:10000451-1771912200-1771915800@pk-proevent.de
SUMMARY:Nüchterntraining
DESCRIPTION:mit Patrick
URL:https://pk-proevent.de/veranstaltungen/nuechterntraining-104/
LOCATION:Protrain\, Poststraße 1\, Emmelshausen\, 56281
CATEGORIES:Kursplan
END:VEVENT
BEGIN:VEVENT
DTSTART;TZID=Europe/Berlin:20260219T190000
DTEND;TZID=Europe/Berlin:20260219T200000
DTSTAMP:20260419T232014
CREATED:20260212T162917Z
LAST-MODIFIED:20260212T162917Z
UID:10000448-1771527600-1771531200@pk-proevent.de
SUMMARY:Fartlek
DESCRIPTION:mit Dominik
URL:https://pk-proevent.de/veranstaltungen/fartlek-31/
LOCATION:Protrain\, Poststraße 1\, Emmelshausen\, 56281
CATEGORIES:Kursplan
END:VEVENT
BEGIN:VEVENT
DTSTART;TZID=Europe/Berlin:20260219T180000
DTEND;TZID=Europe/Berlin:20260219T190000
DTSTAMP:20260419T232014
CREATED:20260212T162807Z
LAST-MODIFIED:20260212T162807Z
UID:10000447-1771524000-1771527600@pk-proevent.de
SUMMARY:FTP20 Test
DESCRIPTION:mit Dominik
URL:https://pk-proevent.de/veranstaltungen/ftp20-test/
LOCATION:Protrain\, Poststraße 1\, Emmelshausen\, 56281
CATEGORIES:Kursplan
END:VEVENT
BEGIN:VEVENT
DTSTART;TZID=Europe/Berlin:20260217T181500
DTEND;TZID=Europe/Berlin:20260217T194500
DTSTAMP:20260419T232014
CREATED:20260212T162627Z
LAST-MODIFIED:20260212T162627Z
UID:10000446-1771352100-1771357500@pk-proevent.de
SUMMARY:Intervalle am Berg
DESCRIPTION:mit Dominik
URL:https://pk-proevent.de/veranstaltungen/intervalle-am-berg-5/
LOCATION:Protrain\, Poststraße 1\, Emmelshausen\, 56281
CATEGORIES:Kursplan
END:VEVENT
BEGIN:VEVENT
DTSTART;TZID=Europe/Berlin:20260216T055000
DTEND;TZID=Europe/Berlin:20260216T065000
DTSTAMP:20260419T232014
CREATED:20260212T162237Z
LAST-MODIFIED:20260212T162237Z
UID:10000445-1771221000-1771224600@pk-proevent.de
SUMMARY:Nüchterntraining
DESCRIPTION:mit Patrick
URL:https://pk-proevent.de/veranstaltungen/nuechterntraining-102/
LOCATION:Protrain\, Poststraße 1\, Emmelshausen\, 56281
CATEGORIES:Kursplan
END:VEVENT
BEGIN:VEVENT
DTSTART;TZID=Europe/Berlin:20260212T190000
DTEND;TZID=Europe/Berlin:20260212T200000
DTSTAMP:20260419T232014
CREATED:20260205T212325Z
LAST-MODIFIED:20260211T181048Z
UID:10000440-1770922800-1770926400@pk-proevent.de
SUMMARY:Protect
DESCRIPTION:
URL:https://pk-proevent.de/veranstaltungen/protect/
LOCATION:Protrain\, Poststraße 1\, Emmelshausen\, 56281
CATEGORIES:Kursplan
END:VEVENT
BEGIN:VEVENT
DTSTART;TZID=Europe/Berlin:20260212T180000
DTEND;TZID=Europe/Berlin:20260212T190000
DTSTAMP:20260419T232014
CREATED:20260205T212359Z
LAST-MODIFIED:20260211T181142Z
UID:10000441-1770919200-1770922800@pk-proevent.de
SUMMARY:Ride the Spark - Special Edition
DESCRIPTION:
URL:https://pk-proevent.de/veranstaltungen/relax-4/
LOCATION:Protrain\, Poststraße 1\, Emmelshausen\, 56281
CATEGORIES:Kursplan
END:VEVENT
BEGIN:VEVENT
DTSTART;TZID=Europe/Berlin:20260212T080000
DTEND;TZID=Europe/Berlin:20260212T083000
DTSTAMP:20260419T232014
CREATED:20260211T171946Z
LAST-MODIFIED:20260211T171946Z
UID:10000444-1770883200-1770885000@pk-proevent.de
SUMMARY:Sonder Testkurs
DESCRIPTION:
URL:https://pk-proevent.de/veranstaltungen/sonder-testkurs/
LOCATION:Protrain\, Poststraße 1\, Emmelshausen\, 56281
CATEGORIES:Kursplan
END:VEVENT
BEGIN:VEVENT
DTSTART;TZID=Europe/Berlin:20260211T055000
DTEND;TZID=Europe/Berlin:20260211T065000
DTSTAMP:20260419T232014
CREATED:20260205T212249Z
LAST-MODIFIED:20260205T212249Z
UID:10000439-1770789000-1770792600@pk-proevent.de
SUMMARY:Nüchterntraining
DESCRIPTION:
URL:https://pk-proevent.de/veranstaltungen/nuechterntraining-100/
LOCATION:Protrain\, Poststraße 1\, Emmelshausen\, 56281
CATEGORIES:Kursplan
END:VEVENT
BEGIN:VEVENT
DTSTART;TZID=Europe/Berlin:20260210T181500
DTEND;TZID=Europe/Berlin:20260210T194500
DTSTAMP:20260419T232014
CREATED:20260205T212200Z
LAST-MODIFIED:20260205T212200Z
UID:10000438-1770747300-1770752700@pk-proevent.de
SUMMARY:Großglockner
DESCRIPTION:
URL:https://pk-proevent.de/veranstaltungen/grossglockner-2/
LOCATION:Protrain\, Poststraße 1\, Emmelshausen\, 56281
CATEGORIES:Kursplan
END:VEVENT
BEGIN:VEVENT
DTSTART;TZID=Europe/Berlin:20260210T080000
DTEND;TZID=Europe/Berlin:20260210T083000
DTSTAMP:20260419T232014
CREATED:20260207T164852Z
LAST-MODIFIED:20260207T164852Z
UID:10000443-1770710400-1770712200@pk-proevent.de
SUMMARY:30min. Online-Kurs
DESCRIPTION:mit Patrick
URL:https://pk-proevent.de/veranstaltungen/30min-online-kurs/
LOCATION:Protrain\, Poststraße 1\, Emmelshausen\, 56281
CATEGORIES:Kursplan
END:VEVENT
BEGIN:VEVENT
DTSTART;TZID=Europe/Berlin:20260209T055000
DTEND;TZID=Europe/Berlin:20260209T065000
DTSTAMP:20260419T232014
CREATED:20260205T212053Z
LAST-MODIFIED:20260205T212113Z
UID:10000437-1770616200-1770619800@pk-proevent.de
SUMMARY:Nüchterntraining
DESCRIPTION:
URL:https://pk-proevent.de/veranstaltungen/nuechterntraining-99/
LOCATION:Protrain\, Poststraße 1\, Emmelshausen\, 56281
CATEGORIES:Kursplan
END:VEVENT
BEGIN:VEVENT
DTSTART;TZID=Europe/Berlin:20260204T055000
DTEND;TZID=Europe/Berlin:20260204T065000
DTSTAMP:20260419T232014
CREATED:20260130T221245Z
LAST-MODIFIED:20260130T221245Z
UID:10000435-1770184200-1770187800@pk-proevent.de
SUMMARY:Nüchterntraining
DESCRIPTION:mit Patrick
URL:https://pk-proevent.de/veranstaltungen/nuechterntraining-98/
LOCATION:Protrain\, Poststraße 1\, Emmelshausen\, 56281
CATEGORIES:Kursplan
END:VEVENT
BEGIN:VEVENT
DTSTART;TZID=Europe/Berlin:20260203T181500
DTEND;TZID=Europe/Berlin:20260203T194500
DTSTAMP:20260419T232015
CREATED:20260130T221431Z
LAST-MODIFIED:20260130T221431Z
UID:10000436-1770142500-1770147900@pk-proevent.de
SUMMARY:3 x 10 Minuten Bergintervalle mit Kraft - extra für Lars Kohnhorst !
DESCRIPTION:
URL:https://pk-proevent.de/veranstaltungen/3-x-10-minuten-bergintervalle-mit-kraft-extra-fuer-lars-kohnhorst/
LOCATION:Protrain\, Poststraße 1\, Emmelshausen\, 56281
CATEGORIES:Kursplan
END:VEVENT
BEGIN:VEVENT
DTSTART;TZID=Europe/Berlin:20260202T055000
DTEND;TZID=Europe/Berlin:20260202T065000
DTSTAMP:20260419T232015
CREATED:20260130T221121Z
LAST-MODIFIED:20260130T221121Z
UID:10000434-1770011400-1770015000@pk-proevent.de
SUMMARY:Nüchterntraining
DESCRIPTION:mit Patrick
URL:https://pk-proevent.de/veranstaltungen/nuechterntraining-97/
LOCATION:Protrain\, Poststraße 1\, Emmelshausen\, 56281
CATEGORIES:Kursplan
END:VEVENT
BEGIN:VEVENT
DTSTART;VALUE=DATE:20260131
DTEND;VALUE=DATE:20260202
DTSTAMP:20260419T232015
CREATED:20251221T155836Z
LAST-MODIFIED:20251222T105616Z
UID:10000397-1769817600-1769990399@pk-proevent.de
SUMMARY:Matrix Ride Basic
DESCRIPTION:
URL:https://pk-proevent.de/veranstaltungen/matrix-ride-basic/
LOCATION:Protrain\, Poststraße 1\, Emmelshausen\, 56281
END:VEVENT
BEGIN:VEVENT
DTSTART;TZID=Europe/Berlin:20260130T055000
DTEND;TZID=Europe/Berlin:20260130T065000
DTSTAMP:20260419T232015
CREATED:20260125T143812Z
LAST-MODIFIED:20260125T143812Z
UID:10000431-1769752200-1769755800@pk-proevent.de
SUMMARY:Nüchterntraining
DESCRIPTION:
URL:https://pk-proevent.de/veranstaltungen/nuechterntraining-96/
LOCATION:Protrain\, Poststraße 1\, Emmelshausen\, 56281
CATEGORIES:Kursplan
END:VEVENT
BEGIN:VEVENT
DTSTART;TZID=Europe/Berlin:20260129T190000
DTEND;TZID=Europe/Berlin:20260129T200000
DTSTAMP:20260419T232015
CREATED:20260125T144049Z
LAST-MODIFIED:20260125T144650Z
UID:10000433-1769713200-1769716800@pk-proevent.de
SUMMARY:Relax
DESCRIPTION:
URL:https://pk-proevent.de/veranstaltungen/relax-3/
LOCATION:Protrain\, Poststraße 1\, Emmelshausen\, 56281
CATEGORIES:Kursplan
END:VEVENT
BEGIN:VEVENT
DTSTART;TZID=Europe/Berlin:20260129T180000
DTEND;TZID=Europe/Berlin:20260129T190000
DTSTAMP:20260419T232015
CREATED:20260125T143943Z
LAST-MODIFIED:20260125T143943Z
UID:10000432-1769709600-1769713200@pk-proevent.de
SUMMARY:EPIC 3
DESCRIPTION:
URL:https://pk-proevent.de/veranstaltungen/epic-3/
LOCATION:Protrain\, Poststraße 1\, Emmelshausen\, 56281
CATEGORIES:Kursplan
END:VEVENT
END:VCALENDAR