BEGIN:VCALENDAR
VERSION:2.0
PRODID:-//ProEvent - ECPv6.15.17.1//NONSGML v1.0//EN
CALSCALE:GREGORIAN
METHOD:PUBLISH
X-ORIGINAL-URL:https://pk-proevent.de
X-WR-CALDESC:Veranstaltungen für ProEvent
REFRESH-INTERVAL;VALUE=DURATION:PT1H
X-Robots-Tag:noindex
X-PUBLISHED-TTL:PT1H
BEGIN:VTIMEZONE
TZID:Europe/Berlin
BEGIN:DAYLIGHT
TZOFFSETFROM:+0100
TZOFFSETTO:+0200
TZNAME:CEST
DTSTART:20240331T010000
END:DAYLIGHT
BEGIN:STANDARD
TZOFFSETFROM:+0200
TZOFFSETTO:+0100
TZNAME:CET
DTSTART:20241027T010000
END:STANDARD
BEGIN:DAYLIGHT
TZOFFSETFROM:+0100
TZOFFSETTO:+0200
TZNAME:CEST
DTSTART:20250330T010000
END:DAYLIGHT
BEGIN:STANDARD
TZOFFSETFROM:+0200
TZOFFSETTO:+0100
TZNAME:CET
DTSTART:20251026T010000
END:STANDARD
BEGIN:DAYLIGHT
TZOFFSETFROM:+0100
TZOFFSETTO:+0200
TZNAME:CEST
DTSTART:20260329T010000
END:DAYLIGHT
BEGIN:STANDARD
TZOFFSETFROM:+0200
TZOFFSETTO:+0100
TZNAME:CET
DTSTART:20261025T010000
END:STANDARD
BEGIN:DAYLIGHT
TZOFFSETFROM:+0100
TZOFFSETTO:+0200
TZNAME:CEST
DTSTART:20270328T010000
END:DAYLIGHT
BEGIN:STANDARD
TZOFFSETFROM:+0200
TZOFFSETTO:+0100
TZNAME:CET
DTSTART:20271031T010000
END:STANDARD
END:VTIMEZONE
BEGIN:VEVENT
DTSTART;TZID=Europe/Berlin:20260120T061500
DTEND;TZID=Europe/Berlin:20260120T065000
DTSTAMP:20260420T042252
CREATED:20260119T143543Z
LAST-MODIFIED:20260119T143543Z
UID:10000428-1768889700-1768891800@pk-proevent.de
SUMMARY:Sonderkurs Basic
DESCRIPTION:mit Patrick
URL:https://pk-proevent.de/veranstaltungen/sonderkurs-basic/
LOCATION:Protrain\, Poststraße 1\, Emmelshausen\, 56281
CATEGORIES:Kursplan
END:VEVENT
BEGIN:VEVENT
DTSTART;TZID=Europe/Berlin:20260119T055000
DTEND;TZID=Europe/Berlin:20260119T065000
DTSTAMP:20260420T042252
CREATED:20260117T123138Z
LAST-MODIFIED:20260117T123138Z
UID:10000423-1768801800-1768805400@pk-proevent.de
SUMMARY:Nüchterntraining
DESCRIPTION:mit Patrick
URL:https://pk-proevent.de/veranstaltungen/nuechterntraining-93/
LOCATION:Protrain\, Poststraße 1\, Emmelshausen\, 56281
CATEGORIES:Kursplan
END:VEVENT
BEGIN:VEVENT
DTSTART;TZID=Europe/Berlin:20260118T100000
DTEND;TZID=Europe/Berlin:20260118T110000
DTSTAMP:20260420T042252
CREATED:20260109T115447Z
LAST-MODIFIED:20260109T115447Z
UID:10000422-1768730400-1768734000@pk-proevent.de
SUMMARY:Nüchterntraining
DESCRIPTION:
URL:https://pk-proevent.de/veranstaltungen/nuechterntraining-92/
LOCATION:Protrain\, Poststraße 1\, Emmelshausen\, 56281
CATEGORIES:Kursplan
END:VEVENT
BEGIN:VEVENT
DTSTART;TZID=Europe/Berlin:20260116T055000
DTEND;TZID=Europe/Berlin:20260116T065000
DTSTAMP:20260420T042252
CREATED:20260109T114757Z
LAST-MODIFIED:20260109T114757Z
UID:10000418-1768542600-1768546200@pk-proevent.de
SUMMARY:Nüchterntraining
DESCRIPTION:
URL:https://pk-proevent.de/veranstaltungen/nuechterntraining-91/
LOCATION:Protrain\, Poststraße 1\, Emmelshausen\, 56281
CATEGORIES:Kursplan
END:VEVENT
BEGIN:VEVENT
DTSTART;TZID=Europe/Berlin:20260115T190000
DTEND;TZID=Europe/Berlin:20260115T200000
DTSTAMP:20260420T042252
CREATED:20260109T115156Z
LAST-MODIFIED:20260109T115156Z
UID:10000421-1768503600-1768507200@pk-proevent.de
SUMMARY:Schiller-Time
DESCRIPTION:
URL:https://pk-proevent.de/veranstaltungen/schiller-time/
LOCATION:Protrain\, Poststraße 1\, Emmelshausen\, 56281
CATEGORIES:Kursplan
END:VEVENT
BEGIN:VEVENT
DTSTART;TZID=Europe/Berlin:20260115T180000
DTEND;TZID=Europe/Berlin:20260115T190000
DTSTAMP:20260420T042252
CREATED:20260109T115053Z
LAST-MODIFIED:20260109T115053Z
UID:10000420-1768500000-1768503600@pk-proevent.de
SUMMARY:One Ride. One Moment.
DESCRIPTION:
URL:https://pk-proevent.de/veranstaltungen/one-ride-one-moment/
LOCATION:Protrain\, Poststraße 1\, Emmelshausen\, 56281
CATEGORIES:Kursplan
END:VEVENT
BEGIN:VEVENT
DTSTART;TZID=Europe/Berlin:20260114T055000
DTEND;TZID=Europe/Berlin:20260114T065000
DTSTAMP:20260420T042252
CREATED:20260109T114633Z
LAST-MODIFIED:20260112T093031Z
UID:10000417-1768369800-1768373400@pk-proevent.de
SUMMARY:Nüchterntraining
DESCRIPTION:
URL:https://pk-proevent.de/veranstaltungen/nuechterntraining-90/
LOCATION:Protrain\, Poststraße 1\, Emmelshausen\, 56281
CATEGORIES:Kursplan
END:VEVENT
BEGIN:VEVENT
DTSTART;TZID=Europe/Berlin:20260113T181500
DTEND;TZID=Europe/Berlin:20260113T194500
DTSTAMP:20260420T042252
CREATED:20260109T114940Z
LAST-MODIFIED:20260109T114940Z
UID:10000419-1768328100-1768333500@pk-proevent.de
SUMMARY:FTP20-Test und variable Dauermethode
DESCRIPTION:
URL:https://pk-proevent.de/veranstaltungen/ftp20-test-und-variable-dauermethode/
LOCATION:Protrain\, Poststraße 1\, Emmelshausen\, 56281
CATEGORIES:Kursplan
END:VEVENT
BEGIN:VEVENT
DTSTART;TZID=Europe/Berlin:20260112T055000
DTEND;TZID=Europe/Berlin:20260112T065000
DTSTAMP:20260420T042252
CREATED:20260109T114512Z
LAST-MODIFIED:20260109T114512Z
UID:10000416-1768197000-1768200600@pk-proevent.de
SUMMARY:Nüchterntraining
DESCRIPTION:
URL:https://pk-proevent.de/veranstaltungen/nuechterntraining-89/
LOCATION:Protrain\, Poststraße 1\, Emmelshausen\, 56281
CATEGORIES:Kursplan
END:VEVENT
BEGIN:VEVENT
DTSTART;TZID=Europe/Berlin:20260111T090000
DTEND;TZID=Europe/Berlin:20260111T100000
DTSTAMP:20260420T042252
CREATED:20260103T161655Z
LAST-MODIFIED:20260103T161655Z
UID:10000415-1768122000-1768125600@pk-proevent.de
SUMMARY:Nüchterntraining
DESCRIPTION:mit Patrick
URL:https://pk-proevent.de/veranstaltungen/nuechterntraining-88/
LOCATION:Protrain\, Poststraße 1\, Emmelshausen\, 56281
CATEGORIES:Kursplan
END:VEVENT
BEGIN:VEVENT
DTSTART;TZID=Europe/Berlin:20260110T080000
DTEND;TZID=Europe/Berlin:20260110T090000
DTSTAMP:20260420T042252
CREATED:20260103T161606Z
LAST-MODIFIED:20260103T161606Z
UID:10000414-1768032000-1768035600@pk-proevent.de
SUMMARY:Nüchterntraining
DESCRIPTION:mit Patrick
URL:https://pk-proevent.de/veranstaltungen/nuechterntraining-87/
LOCATION:Protrain\, Poststraße 1\, Emmelshausen\, 56281
CATEGORIES:Kursplan
END:VEVENT
BEGIN:VEVENT
DTSTART;TZID=Europe/Berlin:20260109T055000
DTEND;TZID=Europe/Berlin:20260109T065000
DTSTAMP:20260420T042252
CREATED:20260103T161015Z
LAST-MODIFIED:20260103T161015Z
UID:10000410-1767937800-1767941400@pk-proevent.de
SUMMARY:Nüchterntraining
DESCRIPTION:mit Patrick
URL:https://pk-proevent.de/veranstaltungen/nuechterntraining-86/
LOCATION:Protrain\, Poststraße 1\, Emmelshausen\, 56281
CATEGORIES:Kursplan
END:VEVENT
BEGIN:VEVENT
DTSTART;TZID=Europe/Berlin:20260108T190000
DTEND;TZID=Europe/Berlin:20260108T200000
DTSTAMP:20260420T042252
CREATED:20260103T161454Z
LAST-MODIFIED:20260103T161454Z
UID:10000413-1767898800-1767902400@pk-proevent.de
SUMMARY:PK-Rammstein-Ride
DESCRIPTION:mit Patrick
URL:https://pk-proevent.de/veranstaltungen/pk-rammstein-ride/
LOCATION:Protrain\, Poststraße 1\, Emmelshausen\, 56281
CATEGORIES:Kursplan
END:VEVENT
BEGIN:VEVENT
DTSTART;TZID=Europe/Berlin:20260108T180000
DTEND;TZID=Europe/Berlin:20260108T190000
DTSTAMP:20260420T042252
CREATED:20260103T161304Z
LAST-MODIFIED:20260103T161304Z
UID:10000412-1767895200-1767898800@pk-proevent.de
SUMMARY:Techno Hill – Nature trifft auf Tomorrowland
DESCRIPTION:mit Patrick
URL:https://pk-proevent.de/veranstaltungen/techno-hill-nature-trifft-auf-tomorrowland/
LOCATION:Protrain\, Poststraße 1\, Emmelshausen\, 56281
CATEGORIES:Kursplan
END:VEVENT
BEGIN:VEVENT
DTSTART;TZID=Europe/Berlin:20260107T055000
DTEND;TZID=Europe/Berlin:20260107T065000
DTSTAMP:20260420T042252
CREATED:20260103T160901Z
LAST-MODIFIED:20260103T160901Z
UID:10000409-1767765000-1767768600@pk-proevent.de
SUMMARY:Nüchterntraining
DESCRIPTION:mit Patrick
URL:https://pk-proevent.de/veranstaltungen/nuechterntraining-85/
LOCATION:Protrain\, Poststraße 1\, Emmelshausen\, 56281
CATEGORIES:Kursplan
END:VEVENT
BEGIN:VEVENT
DTSTART;TZID=Europe/Berlin:20260106T180000
DTEND;TZID=Europe/Berlin:20260106T194500
DTSTAMP:20260420T042252
CREATED:20260103T161126Z
LAST-MODIFIED:20260103T161126Z
UID:10000411-1767722400-1767728700@pk-proevent.de
SUMMARY:Intervalltraining in der Ebene
DESCRIPTION:mit Patrick
URL:https://pk-proevent.de/veranstaltungen/intervalltraining-in-der-ebene/
LOCATION:Protrain\, Poststraße 1\, Emmelshausen\, 56281
CATEGORIES:Kursplan
END:VEVENT
BEGIN:VEVENT
DTSTART;TZID=Europe/Berlin:20260105T055000
DTEND;TZID=Europe/Berlin:20260105T065000
DTSTAMP:20260420T042252
CREATED:20260103T160807Z
LAST-MODIFIED:20260103T160807Z
UID:10000408-1767592200-1767595800@pk-proevent.de
SUMMARY:Nüchterntraining
DESCRIPTION:mit Patrick
URL:https://pk-proevent.de/veranstaltungen/nuechterntraining-84/
LOCATION:Protrain\, Poststraße 1\, Emmelshausen\, 56281
CATEGORIES:Kursplan
END:VEVENT
BEGIN:VEVENT
DTSTART;TZID=Europe/Berlin:20260104T080000
DTEND;TZID=Europe/Berlin:20260104T090000
DTSTAMP:20260420T042252
CREATED:20251228T091920Z
LAST-MODIFIED:20251228T091920Z
UID:10000405-1767513600-1767517200@pk-proevent.de
SUMMARY:Weekendburner
DESCRIPTION:
URL:https://pk-proevent.de/veranstaltungen/weekendburner-2/
LOCATION:Protrain\, Poststraße 1\, Emmelshausen\, 56281
CATEGORIES:Kursplan
END:VEVENT
BEGIN:VEVENT
DTSTART;TZID=Europe/Berlin:20260103T180000
DTEND;TZID=Europe/Berlin:20260103T190000
DTSTAMP:20260420T042252
CREATED:20260102T125545Z
LAST-MODIFIED:20260102T125545Z
UID:10000407-1767463200-1767466800@pk-proevent.de
SUMMARY:Sonderkurs
DESCRIPTION:mit Patrick
URL:https://pk-proevent.de/veranstaltungen/sonderkurs-3/
LOCATION:Protrain\, Poststraße 1\, Emmelshausen\, 56281
CATEGORIES:Kursplan
END:VEVENT
BEGIN:VEVENT
DTSTART;TZID=Europe/Berlin:20260103T080000
DTEND;TZID=Europe/Berlin:20260103T090000
DTSTAMP:20260420T042252
CREATED:20251228T091820Z
LAST-MODIFIED:20251228T091820Z
UID:10000404-1767427200-1767430800@pk-proevent.de
SUMMARY:Weekendburner
DESCRIPTION:
URL:https://pk-proevent.de/veranstaltungen/weekendburner/
LOCATION:Protrain\, Poststraße 1\, Emmelshausen\, 56281
CATEGORIES:Kursplan
END:VEVENT
BEGIN:VEVENT
DTSTART;TZID=Europe/Berlin:20260102T070000
DTEND;TZID=Europe/Berlin:20260102T080000
DTSTAMP:20260420T042252
CREATED:20251228T091537Z
LAST-MODIFIED:20251228T091537Z
UID:10000403-1767337200-1767340800@pk-proevent.de
SUMMARY:The First Step
DESCRIPTION:
URL:https://pk-proevent.de/veranstaltungen/the-first-step/
LOCATION:Protrain\, Poststraße 1\, Emmelshausen\, 56281
CATEGORIES:Kursplan
END:VEVENT
BEGIN:VEVENT
DTSTART;TZID=Europe/Berlin:20251231T080000
DTEND;TZID=Europe/Berlin:20251231T090000
DTSTAMP:20260420T042252
CREATED:20251217T142007Z
LAST-MODIFIED:20251218T093644Z
UID:10000396-1767168000-1767171600@pk-proevent.de
SUMMARY:Silvester Special
DESCRIPTION:
URL:https://pk-proevent.de/veranstaltungen/silvester-special/
LOCATION:Protrain\, Poststraße 1\, Emmelshausen\, 56281
CATEGORIES:Kursplan,Nachfahren
END:VEVENT
BEGIN:VEVENT
DTSTART;TZID=Europe/Berlin:20251230T181500
DTEND;TZID=Europe/Berlin:20251230T194500
DTSTAMP:20260420T042252
CREATED:20251228T092230Z
LAST-MODIFIED:20251228T092230Z
UID:10000406-1767118500-1767123900@pk-proevent.de
SUMMARY:Intervalltraining
DESCRIPTION:
URL:https://pk-proevent.de/veranstaltungen/intervalltraining-5/
LOCATION:Protrain\, Poststraße 1\, Emmelshausen\, 56281
CATEGORIES:Kursplan
END:VEVENT
BEGIN:VEVENT
DTSTART;TZID=Europe/Berlin:20251230T070000
DTEND;TZID=Europe/Berlin:20251230T080000
DTSTAMP:20260420T042252
CREATED:20251228T091341Z
LAST-MODIFIED:20251228T091341Z
UID:10000402-1767078000-1767081600@pk-proevent.de
SUMMARY:Nüchterntraining
DESCRIPTION:
URL:https://pk-proevent.de/veranstaltungen/nuechterntraining-83/
LOCATION:Protrain\, Poststraße 1\, Emmelshausen\, 56281
CATEGORIES:Kursplan
END:VEVENT
BEGIN:VEVENT
DTSTART;TZID=Europe/Berlin:20251229T203000
DTEND;TZID=Europe/Berlin:20251229T213000
DTSTAMP:20260420T042252
CREATED:20251228T091244Z
LAST-MODIFIED:20251228T091244Z
UID:10000401-1767040200-1767043800@pk-proevent.de
SUMMARY:Fatburner / Regeneration
DESCRIPTION:
URL:https://pk-proevent.de/veranstaltungen/fatburner-regeneration/
LOCATION:Protrain\, Poststraße 1\, Emmelshausen\, 56281
CATEGORIES:Kursplan
END:VEVENT
BEGIN:VEVENT
DTSTART;TZID=Europe/Berlin:20251228T080000
DTEND;TZID=Europe/Berlin:20251228T090000
DTSTAMP:20260420T042252
CREATED:20251224T062547Z
LAST-MODIFIED:20251224T062547Z
UID:10000400-1766908800-1766912400@pk-proevent.de
SUMMARY:Nüchterntraining
DESCRIPTION:
URL:https://pk-proevent.de/veranstaltungen/nuechterntraining-82/
LOCATION:Protrain\, Poststraße 1\, Emmelshausen\, 56281
CATEGORIES:Kursplan
END:VEVENT
BEGIN:VEVENT
DTSTART;TZID=Europe/Berlin:20251227T080000
DTEND;TZID=Europe/Berlin:20251227T090000
DTSTAMP:20260420T042252
CREATED:20251224T062455Z
LAST-MODIFIED:20251224T062743Z
UID:10000399-1766822400-1766826000@pk-proevent.de
SUMMARY:Nüchterntraining
DESCRIPTION:
URL:https://pk-proevent.de/veranstaltungen/nuechterntraining-79/
LOCATION:Protrain\, Poststraße 1\, Emmelshausen\, 56281
CATEGORIES:Kursplan
END:VEVENT
BEGIN:VEVENT
DTSTART;TZID=Europe/Berlin:20251224T090000
DTEND;TZID=Europe/Berlin:20251224T100000
DTSTAMP:20260420T042252
CREATED:20251214T150352Z
LAST-MODIFIED:20251218T093339Z
UID:10000394-1766566800-1766570400@pk-proevent.de
SUMMARY:Weihnachtsspecial
DESCRIPTION:
URL:https://pk-proevent.de/veranstaltungen/weihnachtsspecial/
LOCATION:Protrain\, Poststraße 1\, Emmelshausen\, 56281
CATEGORIES:Kursplan
END:VEVENT
BEGIN:VEVENT
DTSTART;TZID=Europe/Berlin:20251224T063000
DTEND;TZID=Europe/Berlin:20251224T073000
DTSTAMP:20260420T042252
CREATED:20251222T054611Z
LAST-MODIFIED:20251225T122039Z
UID:10000398-1766557800-1766561400@pk-proevent.de
SUMMARY:Nüchterntraining
DESCRIPTION:
URL:https://pk-proevent.de/veranstaltungen/nuechterntraining-77/
LOCATION:Protrain\, Poststraße 1\, Emmelshausen\, 56281
CATEGORIES:Kursplan
END:VEVENT
BEGIN:VEVENT
DTSTART;TZID=Europe/Berlin:20251223T181500
DTEND;TZID=Europe/Berlin:20251223T194500
DTSTAMP:20260420T042252
CREATED:20251012T092105Z
LAST-MODIFIED:20251218T093435Z
UID:10000355-1766513700-1766519100@pk-proevent.de
SUMMARY:VDM - Variable Dauermethode
DESCRIPTION:
URL:https://pk-proevent.de/veranstaltungen/vdm-variable-dauermethode-10/
LOCATION:Protrain\, Poststraße 1\, Emmelshausen\, 56281
CATEGORIES:Kursplan
END:VEVENT
END:VCALENDAR